BEGIN:VCALENDAR
VERSION:2.0
PRODID:-//Alisa Ann Ruch Burn Foundation - ECPv6.15.20//NONSGML v1.0//EN
CALSCALE:GREGORIAN
METHOD:PUBLISH
X-WR-CALNAME:Alisa Ann Ruch Burn Foundation
X-ORIGINAL-URL:https://www.aarbf.org
X-WR-CALDESC:Events for Alisa Ann Ruch Burn Foundation
REFRESH-INTERVAL;VALUE=DURATION:PT1H
X-Robots-Tag:noindex
X-PUBLISHED-TTL:PT1H
BEGIN:VTIMEZONE
TZID:UTC
BEGIN:STANDARD
TZOFFSETFROM:+0000
TZOFFSETTO:+0000
TZNAME:UTC
DTSTART:20260101T000000
END:STANDARD
END:VTIMEZONE
BEGIN:VEVENT
DTSTART;TZID=UTC:20270701T190000
DTEND;TZID=UTC:20270701T203000
DTSTAMP:20260422T142914
CREATED:20241226T202814Z
LAST-MODIFIED:20250924T185528Z
UID:10000609-1814468400-1814473800@www.aarbf.org
SUMMARY:Friends\, Family\, and Caregiver Support Group - Virtual
DESCRIPTION:The group provides opportunities to share experiences\, exchange support\, and learn from others who have walked similar paths. Participants are welcome to share their experiences\, listen\, or take part in whatever way feels comfortable. \n  \nThis virtual support group meets on the first Thursday of each month.  To register\, please contact us: Please enable JavaScript in your browser to complete this form.Please enable JavaScript in your browser to complete this form.Personal information\nFirst Name *Last Name *Email *Phone *Address\nStreet *City *State *SelectALAKAZARCACOCTDEFLGAHIIDILINIAKSKYLAMEMDMAMIMNMSMOMTNENVNHNJNMNYNCNDOHOKORPARISCSDTNTXUTVTVAWAWVWIWYZipcode *Tell us more about you\nAre you a: *SelectBurn survivorFamily member of burn survivorMedical professional\, counselorFriend of burn survivor		\n			your Name State\n			\n		\n		Select your Support Group SelectSpanish-speaking support groupBurn care professional supportBurn SurvivorFamily SupportNames of family members joining *Submit
URL:https://www.aarbf.org/event/friends-family-and-caregiver-support-group-virtual/2027-07-01/
END:VEVENT
BEGIN:VEVENT
DTSTART;TZID=UTC:20270706T190000
DTEND;TZID=UTC:20270706T203000
DTSTAMP:20260422T142914
CREATED:20241226T201054Z
LAST-MODIFIED:20250116T192831Z
UID:10000048-1814900400-1814905800@www.aarbf.org
SUMMARY:Santa Clara Valley Support Group
DESCRIPTION:This group meets the first Tuesday of every month. To register\, please contact us: Please enable JavaScript in your browser to complete this form.Please enable JavaScript in your browser to complete this form.Personal information\nFirst Name *Last Name *Email *Phone *		\n			State Are a:\n			\n		\n		Address\nStreet *City *State *SelectALAKAZARCACOCTDEFLGAHIIDILINIAKSKYLAMEMDMAMIMNMSMOMTNENVNHNJNMNYNCNDOHOKORPARISCSDTNTXUTVTVAWAWVWIWYZipcode *Tell us more about you\nAre you a: *SelectBurn survivorFamily member of burn survivorMedical professional\, counselorFriend of burn survivorCommunity PartnerOtherSelect your Support Group *SelectSanta Clara Valley Medical Center\, San JoseUCSF Health Saint Francis Support Group\, San FranciscoFresno Community Regional Medical CenterLA General Support Group\, Los AngelesSubmit
URL:https://www.aarbf.org/event/santa-clara-valley-support-group/2027-07-06/
END:VEVENT
BEGIN:VEVENT
DTSTART;TZID=UTC:20270707T143000
DTEND;TZID=UTC:20270707T153000
DTSTAMP:20260422T142914
CREATED:20241226T202201Z
LAST-MODIFIED:20250116T192752Z
UID:10000329-1814970600-1814974200@www.aarbf.org
SUMMARY:LA General Support Group
DESCRIPTION:This group meets every Wednesday. To register\, please contact us: Please enable JavaScript in your browser to complete this form.Please enable JavaScript in your browser to complete this form.Personal information\nFirst Name *Last Name *Email *Phone *Address\nStreet *		\n			Support you Select\n			\n		\n		City *State *SelectALAKAZARCACOCTDEFLGAHIIDILINIAKSKYLAMEMDMAMIMNMSMOMTNENVNHNJNMNYNCNDOHOKORPARISCSDTNTXUTVTVAWAWVWIWYZipcode *Tell us more about you\nAre you a: *SelectBurn survivorFamily member of burn survivorMedical professional\, counselorFriend of burn survivorCommunity PartnerOtherSelect your Support Group *SelectSanta Clara Valley Medical Center\, San JoseUCSF Health Saint Francis Support Group\, San FranciscoFresno Community Regional Medical CenterLA General Support Group\, Los AngelesSubmit
URL:https://www.aarbf.org/event/la-general-support-group/2027-07-07/
END:VEVENT
BEGIN:VEVENT
DTSTART;TZID=UTC:20270708T183000
DTEND;TZID=UTC:20270708T200000
DTSTAMP:20260422T142914
CREATED:20250203T212604Z
LAST-MODIFIED:20250507T005730Z
UID:10001205-1815071400-1815076800@www.aarbf.org
SUMMARY:Burn Care Professionals Support Group - Virtual
DESCRIPTION:This virtual support group meets on the second Thursday of each month.  To register\, please contact us: Please enable JavaScript in your browser to complete this form.Please enable JavaScript in your browser to complete this form.Personal information\nFirst Name *Last Name *Email *Phone *Address\n		\n			Zipcode joining Email\n			\n		\n		Street *City *State *SelectALAKAZARCACOCTDEFLGAHIIDILINIAKSKYLAMEMDMAMIMNMSMOMTNENVNHNJNMNYNCNDOHOKORPARISCSDTNTXUTVTVAWAWVWIWYZipcode *Tell us more about you\nAre you a: *SelectBurn survivorFamily member of burn survivorMedical professional\, counselorFriend of burn survivorSelect your Support Group SelectSpanish-speaking support groupBurn care professional supportBurn SurvivorFamily SupportNames of family members joining *Submit
URL:https://www.aarbf.org/event/burn-care-professionals-support-group-virtual-2/2027-07-08/
ATTACH;FMTTYPE=image/jpeg:https://www.aarbf.org/wp-content/uploads/2025/02/BurnCarePro.jpg
END:VEVENT
BEGIN:VEVENT
DTSTART;TZID=UTC:20270713T183000
DTEND;TZID=UTC:20270713T200000
DTSTAMP:20260422T142914
CREATED:20241226T202012Z
LAST-MODIFIED:20250116T192708Z
UID:10000169-1815503400-1815508800@www.aarbf.org
SUMMARY:Fresno CRMC Support Group
DESCRIPTION:This group meets the second Tuesday of every month. To register\, please contact us: Please enable JavaScript in your browser to complete this form.Please enable JavaScript in your browser to complete this form.Personal information\n		\n			Street your Email\n			\n		\n		First Name *Last Name *Email *Phone *Address\nStreet *City *State *SelectALAKAZARCACOCTDEFLGAHIIDILINIAKSKYLAMEMDMAMIMNMSMOMTNENVNHNJNMNYNCNDOHOKORPARISCSDTNTXUTVTVAWAWVWIWYZipcode *Tell us more about you\nAre you a: *SelectBurn survivorFamily member of burn survivorMedical professional\, counselorFriend of burn survivorCommunity PartnerOtherSelect your Support Group *SelectSanta Clara Valley Medical Center\, San JoseUCSF Health Saint Francis Support Group\, San FranciscoFresno Community Regional Medical CenterLA General Support Group\, Los AngelesSubmit
URL:https://www.aarbf.org/event/fresno-crmc-support-group/2027-07-13/
END:VEVENT
BEGIN:VEVENT
DTSTART;TZID=UTC:20270714T143000
DTEND;TZID=UTC:20270714T153000
DTSTAMP:20260422T142914
CREATED:20241226T202201Z
LAST-MODIFIED:20250116T192752Z
UID:10000330-1815575400-1815579000@www.aarbf.org
SUMMARY:LA General Support Group
DESCRIPTION:This group meets every Wednesday. To register\, please contact us: Please enable JavaScript in your browser to complete this form.Please enable JavaScript in your browser to complete this form.Personal information\n		\n			Zipcode Name Select\n			\n		\n		First Name *Last Name *Email *Phone *Address\nStreet *City *State *SelectALAKAZARCACOCTDEFLGAHIIDILINIAKSKYLAMEMDMAMIMNMSMOMTNENVNHNJNMNYNCNDOHOKORPARISCSDTNTXUTVTVAWAWVWIWYZipcode *Tell us more about you\nAre you a: *SelectBurn survivorFamily member of burn survivorMedical professional\, counselorFriend of burn survivorCommunity PartnerOtherSelect your Support Group *SelectSanta Clara Valley Medical Center\, San JoseUCSF Health Saint Francis Support Group\, San FranciscoFresno Community Regional Medical CenterLA General Support Group\, Los AngelesSubmit
URL:https://www.aarbf.org/event/la-general-support-group/2027-07-14/
END:VEVENT
BEGIN:VEVENT
DTSTART;TZID=UTC:20270714T183000
DTEND;TZID=UTC:20270714T200000
DTSTAMP:20260422T142914
CREATED:20241226T202450Z
LAST-MODIFIED:20250114T183924Z
UID:10000489-1815589800-1815595200@www.aarbf.org
SUMMARY:Burn Support Group - Virtual
DESCRIPTION:This virtual support group meets on the second Wednesday of each month.  To register\, please contact us: Please enable JavaScript in your browser to complete this form.Please enable JavaScript in your browser to complete this form.Personal information\nFirst Name *Last Name *		\n			a: Name Names\n			\n		\n		Email *Phone *Address\nStreet *City *State *SelectALAKAZARCACOCTDEFLGAHIIDILINIAKSKYLAMEMDMAMIMNMSMOMTNENVNHNJNMNYNCNDOHOKORPARISCSDTNTXUTVTVAWAWVWIWYZipcode *Tell us more about you\nAre you a: *SelectBurn survivorFamily member of burn survivorMedical professional\, counselorFriend of burn survivorSelect your Support Group SelectSpanish-speaking support groupBurn care professional supportBurn SurvivorFamily SupportNames of family members joining *Submit
URL:https://www.aarbf.org/event/burn-support-group-virtual/2027-07-14/
END:VEVENT
BEGIN:VEVENT
DTSTART;TZID=UTC:20270715T190000
DTEND;TZID=UTC:20270715T203000
DTSTAMP:20260422T142914
CREATED:20241226T202627Z
LAST-MODIFIED:20250306T224640Z
UID:10000549-1815678000-1815683400@www.aarbf.org
SUMMARY:What Now? Workshop
DESCRIPTION:This workshop occurs on the third Thursday of each month.  To register\, please contact us: Please enable JavaScript in your browser to complete this form.Please enable JavaScript in your browser to complete this form.Personal information\nFirst Name *Last Name *Email *Phone *Address\n		\n			Layout City a:\n			\n		\n		Street *City *State *SelectALAKAZARCACOCTDEFLGAHIIDILINIAKSKYLAMEMDMAMIMNMSMOMTNENVNHNJNMNYNCNDOHOKORPARISCSDTNTXUTVTVAWAWVWIWYZipcode *Tell us more about you\nAre you a: *SelectBurn survivorFamily member of burn survivorMedical professional\, counselorFriend of burn survivorSelect your Support Group SelectSpanish-speaking support groupBurn care professional supportBurn SurvivorFamily SupportNames of family members joining *Submit
URL:https://www.aarbf.org/event/whatnowworkshop/2027-07-15/
END:VEVENT
BEGIN:VEVENT
DTSTART;TZID=UTC:20270720T180000
DTEND;TZID=UTC:20270720T193000
DTSTAMP:20260422T142914
CREATED:20241226T202930Z
LAST-MODIFIED:20250114T183251Z
UID:10000669-1816106400-1816111800@www.aarbf.org
SUMMARY:Spanish-Speaking Support Group - Virtual
DESCRIPTION:This virtual support group meets on the third Tuesday of each month.  To register\, please contact us: Please enable JavaScript in your browser to complete this form.Please enable JavaScript in your browser to complete this form.Personal information\nFirst Name *Last Name *Email *Phone *Address\nStreet *		\n			Are you First\n			\n		\n		City *State *SelectALAKAZARCACOCTDEFLGAHIIDILINIAKSKYLAMEMDMAMIMNMSMOMTNENVNHNJNMNYNCNDOHOKORPARISCSDTNTXUTVTVAWAWVWIWYZipcode *Tell us more about you\nAre you a: *SelectBurn survivorFamily member of burn survivorMedical professional\, counselorFriend of burn survivorSelect your Support Group SelectSpanish-speaking support groupBurn care professional supportBurn SurvivorFamily SupportNames of family members joining *Submit
URL:https://www.aarbf.org/event/spanish-speaking-support-group-virtual/2027-07-20/
END:VEVENT
BEGIN:VEVENT
DTSTART;TZID=UTC:20270721T143000
DTEND;TZID=UTC:20270721T153000
DTSTAMP:20260422T142915
CREATED:20241226T202201Z
LAST-MODIFIED:20250116T192752Z
UID:10000331-1816180200-1816183800@www.aarbf.org
SUMMARY:LA General Support Group
DESCRIPTION:This group meets every Wednesday. To register\, please contact us: Please enable JavaScript in your browser to complete this form.Please enable JavaScript in your browser to complete this form.Personal information\n		\n			State Layout your\n			\n		\n		First Name *Last Name *Email *Phone *Address\nStreet *City *State *SelectALAKAZARCACOCTDEFLGAHIIDILINIAKSKYLAMEMDMAMIMNMSMOMTNENVNHNJNMNYNCNDOHOKORPARISCSDTNTXUTVTVAWAWVWIWYZipcode *Tell us more about you\nAre you a: *SelectBurn survivorFamily member of burn survivorMedical professional\, counselorFriend of burn survivorCommunity PartnerOtherSelect your Support Group *SelectSanta Clara Valley Medical Center\, San JoseUCSF Health Saint Francis Support Group\, San FranciscoFresno Community Regional Medical CenterLA General Support Group\, Los AngelesSubmit
URL:https://www.aarbf.org/event/la-general-support-group/2027-07-21/
END:VEVENT
BEGIN:VEVENT
DTSTART;TZID=UTC:20270728T143000
DTEND;TZID=UTC:20270728T153000
DTSTAMP:20260422T142915
CREATED:20241226T202201Z
LAST-MODIFIED:20250116T192752Z
UID:10000332-1816785000-1816788600@www.aarbf.org
SUMMARY:LA General Support Group
DESCRIPTION:This group meets every Wednesday. To register\, please contact us: Please enable JavaScript in your browser to complete this form.Please enable JavaScript in your browser to complete this form.Personal information\nFirst Name *Last Name *Email *Phone *Address\n		\n			Email State Layout\n			\n		\n		Street *City *State *SelectALAKAZARCACOCTDEFLGAHIIDILINIAKSKYLAMEMDMAMIMNMSMOMTNENVNHNJNMNYNCNDOHOKORPARISCSDTNTXUTVTVAWAWVWIWYZipcode *Tell us more about you\nAre you a: *SelectBurn survivorFamily member of burn survivorMedical professional\, counselorFriend of burn survivorCommunity PartnerOtherSelect your Support Group *SelectSanta Clara Valley Medical Center\, San JoseUCSF Health Saint Francis Support Group\, San FranciscoFresno Community Regional Medical CenterLA General Support Group\, Los AngelesSubmit
URL:https://www.aarbf.org/event/la-general-support-group/2027-07-28/
END:VEVENT
BEGIN:VEVENT
DTSTART;TZID=UTC:20270729T113000
DTEND;TZID=UTC:20270729T130000
DTSTAMP:20260422T142915
CREATED:20241226T201336Z
LAST-MODIFIED:20250116T192617Z
UID:10000108-1816860600-1816866000@www.aarbf.org
SUMMARY:UCSF Health Saint Francis Hospital Support Group
DESCRIPTION:This group meets the last Thursday of every month. To register\, please contact us: Please enable JavaScript in your browser to complete this form.Please enable JavaScript in your browser to complete this form.Personal information\nFirst Name *Last Name *		\n			Last Name your\n			\n		\n		Email *Phone *Address\nStreet *City *State *SelectALAKAZARCACOCTDEFLGAHIIDILINIAKSKYLAMEMDMAMIMNMSMOMTNENVNHNJNMNYNCNDOHOKORPARISCSDTNTXUTVTVAWAWVWIWYZipcode *Tell us more about you\nAre you a: *SelectBurn survivorFamily member of burn survivorMedical professional\, counselorFriend of burn survivorCommunity PartnerOtherSelect your Support Group *SelectSanta Clara Valley Medical Center\, San JoseUCSF Health Saint Francis Support Group\, San FranciscoFresno Community Regional Medical CenterLA General Support Group\, Los AngelesSubmit
URL:https://www.aarbf.org/event/ucsf-health-saint-francis-hospital/2027-07-29/
END:VEVENT
END:VCALENDAR