BEGIN:VCALENDAR
VERSION:2.0
PRODID:-//Alisa Ann Ruch Burn Foundation - ECPv6.15.20//NONSGML v1.0//EN
CALSCALE:GREGORIAN
METHOD:PUBLISH
X-ORIGINAL-URL:https://www.aarbf.org
X-WR-CALDESC:Events for Alisa Ann Ruch Burn Foundation
REFRESH-INTERVAL;VALUE=DURATION:PT1H
X-Robots-Tag:noindex
X-PUBLISHED-TTL:PT1H
BEGIN:VTIMEZONE
TZID:UTC
BEGIN:STANDARD
TZOFFSETFROM:+0000
TZOFFSETTO:+0000
TZNAME:UTC
DTSTART:20260101T000000
END:STANDARD
END:VTIMEZONE
BEGIN:VEVENT
DTSTART;TZID=UTC:20270302T190000
DTEND;TZID=UTC:20270302T203000
DTSTAMP:20260422T073212
CREATED:20241226T201054Z
LAST-MODIFIED:20250116T192831Z
UID:10000044-1804014000-1804019400@www.aarbf.org
SUMMARY:Santa Clara Valley Support Group
DESCRIPTION:This group meets the first Tuesday of every month. To register\, please contact us: Please enable JavaScript in your browser to complete this form.Please enable JavaScript in your browser to complete this form.Personal information\nFirst Name *Last Name *Email *Phone *Address\nStreet *		\n			First Street Group\n			\n		\n		City *State *SelectALAKAZARCACOCTDEFLGAHIIDILINIAKSKYLAMEMDMAMIMNMSMOMTNENVNHNJNMNYNCNDOHOKORPARISCSDTNTXUTVTVAWAWVWIWYZipcode *Tell us more about you\nAre you a: *SelectBurn survivorFamily member of burn survivorMedical professional\, counselorFriend of burn survivorCommunity PartnerOtherSelect your Support Group *SelectSanta Clara Valley Medical Center\, San JoseUCSF Health Saint Francis Support Group\, San FranciscoFresno Community Regional Medical CenterLA General Support Group\, Los AngelesSubmit
URL:https://www.aarbf.org/event/santa-clara-valley-support-group/2027-03-02/
END:VEVENT
BEGIN:VEVENT
DTSTART;TZID=UTC:20270303T143000
DTEND;TZID=UTC:20270303T153000
DTSTAMP:20260422T073212
CREATED:20241226T202201Z
LAST-MODIFIED:20250116T192752Z
UID:10000311-1804084200-1804087800@www.aarbf.org
SUMMARY:LA General Support Group
DESCRIPTION:This group meets every Wednesday. To register\, please contact us: Please enable JavaScript in your browser to complete this form.Please enable JavaScript in your browser to complete this form.Personal information\nFirst Name *Last Name *Email *Phone *Address\nStreet *City *State *SelectALAKAZARCACOCTDEFLGAHIIDILINIAKSKYLAMEMDMAMIMNMSMOMTNENVNHNJNMNYNCNDOHOKORPARISCSDTNTXUTVTVAWAWVWIWYZipcode *Tell us more about you\n		\n			Support Last Are\n			\n		\n		Are you a: *SelectBurn survivorFamily member of burn survivorMedical professional\, counselorFriend of burn survivorCommunity PartnerOtherSelect your Support Group *SelectSanta Clara Valley Medical Center\, San JoseUCSF Health Saint Francis Support Group\, San FranciscoFresno Community Regional Medical CenterLA General Support Group\, Los AngelesSubmit
URL:https://www.aarbf.org/event/la-general-support-group/2027-03-03/
END:VEVENT
BEGIN:VEVENT
DTSTART;TZID=UTC:20270304T190000
DTEND;TZID=UTC:20270304T203000
DTSTAMP:20260422T073212
CREATED:20241226T202814Z
LAST-MODIFIED:20250924T185528Z
UID:10000605-1804186800-1804192200@www.aarbf.org
SUMMARY:Friends\, Family\, and Caregiver Support Group - Virtual
DESCRIPTION:The group provides opportunities to share experiences\, exchange support\, and learn from others who have walked similar paths. Participants are welcome to share their experiences\, listen\, or take part in whatever way feels comfortable. \n  \nThis virtual support group meets on the first Thursday of each month.  To register\, please contact us: Please enable JavaScript in your browser to complete this form.Please enable JavaScript in your browser to complete this form.Personal information\nFirst Name *Last Name *Email *Phone *Address\nStreet *City *State *SelectALAKAZARCACOCTDEFLGAHIIDILINIAKSKYLAMEMDMAMIMNMSMOMTNENVNHNJNMNYNCNDOHOKORPARISCSDTNTXUTVTVAWAWVWIWYZipcode *Tell us more about you\n		\n			members your Name\n			\n		\n		Are you a: *SelectBurn survivorFamily member of burn survivorMedical professional\, counselorFriend of burn survivorSelect your Support Group SelectSpanish-speaking support groupBurn care professional supportBurn SurvivorFamily SupportNames of family members joining *Submit
URL:https://www.aarbf.org/event/friends-family-and-caregiver-support-group-virtual/2027-03-04/
END:VEVENT
BEGIN:VEVENT
DTSTART;TZID=UTC:20270309T183000
DTEND;TZID=UTC:20270309T200000
DTSTAMP:20260422T073212
CREATED:20241226T202012Z
LAST-MODIFIED:20250116T192708Z
UID:10000165-1804617000-1804622400@www.aarbf.org
SUMMARY:Fresno CRMC Support Group
DESCRIPTION:This group meets the second Tuesday of every month. To register\, please contact us: Please enable JavaScript in your browser to complete this form.Please enable JavaScript in your browser to complete this form.Personal information\nFirst Name *Last Name *Email *Phone *Address\nStreet *City *State *SelectALAKAZARCACOCTDEFLGAHIIDILINIAKSKYLAMEMDMAMIMNMSMOMTNENVNHNJNMNYNCNDOHOKORPARISCSDTNTXUTVTVAWAWVWIWYZipcode *Tell us more about you\nAre you a: *SelectBurn survivorFamily member of burn survivorMedical professional\, counselorFriend of burn survivorCommunity PartnerOther		\n			Email Group your\n			\n		\n		Select your Support Group *SelectSanta Clara Valley Medical Center\, San JoseUCSF Health Saint Francis Support Group\, San FranciscoFresno Community Regional Medical CenterLA General Support Group\, Los AngelesSubmit
URL:https://www.aarbf.org/event/fresno-crmc-support-group/2027-03-09/
END:VEVENT
BEGIN:VEVENT
DTSTART;TZID=UTC:20270310T143000
DTEND;TZID=UTC:20270310T153000
DTSTAMP:20260422T073212
CREATED:20241226T202201Z
LAST-MODIFIED:20250116T192752Z
UID:10000312-1804689000-1804692600@www.aarbf.org
SUMMARY:LA General Support Group
DESCRIPTION:This group meets every Wednesday. To register\, please contact us: Please enable JavaScript in your browser to complete this form.Please enable JavaScript in your browser to complete this form.Personal information\nFirst Name *Last Name *Email *Phone *Address\nStreet *		\n			State Select Name\n			\n		\n		City *State *SelectALAKAZARCACOCTDEFLGAHIIDILINIAKSKYLAMEMDMAMIMNMSMOMTNENVNHNJNMNYNCNDOHOKORPARISCSDTNTXUTVTVAWAWVWIWYZipcode *Tell us more about you\nAre you a: *SelectBurn survivorFamily member of burn survivorMedical professional\, counselorFriend of burn survivorCommunity PartnerOtherSelect your Support Group *SelectSanta Clara Valley Medical Center\, San JoseUCSF Health Saint Francis Support Group\, San FranciscoFresno Community Regional Medical CenterLA General Support Group\, Los AngelesSubmit
URL:https://www.aarbf.org/event/la-general-support-group/2027-03-10/
END:VEVENT
BEGIN:VEVENT
DTSTART;TZID=UTC:20270310T183000
DTEND;TZID=UTC:20270310T200000
DTSTAMP:20260422T073212
CREATED:20241226T202450Z
LAST-MODIFIED:20250114T183924Z
UID:10000485-1804703400-1804708800@www.aarbf.org
SUMMARY:Burn Support Group - Virtual
DESCRIPTION:This virtual support group meets on the second Wednesday of each month.  To register\, please contact us: Please enable JavaScript in your browser to complete this form.Please enable JavaScript in your browser to complete this form.Personal information\nFirst Name *Last Name *Email *Phone *		\n			you a: Support\n			\n		\n		Address\nStreet *City *State *SelectALAKAZARCACOCTDEFLGAHIIDILINIAKSKYLAMEMDMAMIMNMSMOMTNENVNHNJNMNYNCNDOHOKORPARISCSDTNTXUTVTVAWAWVWIWYZipcode *Tell us more about you\nAre you a: *SelectBurn survivorFamily member of burn survivorMedical professional\, counselorFriend of burn survivorSelect your Support Group SelectSpanish-speaking support groupBurn care professional supportBurn SurvivorFamily SupportNames of family members joining *Submit
URL:https://www.aarbf.org/event/burn-support-group-virtual/2027-03-10/
END:VEVENT
BEGIN:VEVENT
DTSTART;TZID=UTC:20270311T183000
DTEND;TZID=UTC:20270311T200000
DTSTAMP:20260422T073212
CREATED:20250203T212604Z
LAST-MODIFIED:20250507T005730Z
UID:10001201-1804789800-1804795200@www.aarbf.org
SUMMARY:Burn Care Professionals Support Group - Virtual
DESCRIPTION:This virtual support group meets on the second Thursday of each month.  To register\, please contact us: Please enable JavaScript in your browser to complete this form.Please enable JavaScript in your browser to complete this form.Personal information\nFirst Name *Last Name *Email *Phone *Address\nStreet *City *State *SelectALAKAZARCACOCTDEFLGAHIIDILINIAKSKYLAMEMDMAMIMNMSMOMTNENVNHNJNMNYNCNDOHOKORPARISCSDTNTXUTVTVAWAWVWIWYZipcode *Tell us more about you\nAre you a: *SelectBurn survivorFamily member of burn survivorMedical professional\, counselorFriend of burn survivor		\n			Support family members\n			\n		\n		Select your Support Group SelectSpanish-speaking support groupBurn care professional supportBurn SurvivorFamily SupportNames of family members joining *Submit
URL:https://www.aarbf.org/event/burn-care-professionals-support-group-virtual-2/2027-03-11/
ATTACH;FMTTYPE=image/jpeg:https://www.aarbf.org/wp-content/uploads/2025/02/BurnCarePro.jpg
END:VEVENT
BEGIN:VEVENT
DTSTART;TZID=UTC:20270316T180000
DTEND;TZID=UTC:20270316T193000
DTSTAMP:20260422T073212
CREATED:20241226T202930Z
LAST-MODIFIED:20250114T183251Z
UID:10000665-1805220000-1805225400@www.aarbf.org
SUMMARY:Spanish-Speaking Support Group - Virtual
DESCRIPTION:This virtual support group meets on the third Tuesday of each month.  To register\, please contact us: Please enable JavaScript in your browser to complete this form.Please enable JavaScript in your browser to complete this form.Personal information\nFirst Name *Last Name *Email *Phone *Address\nStreet *City *State *SelectALAKAZARCACOCTDEFLGAHIIDILINIAKSKYLAMEMDMAMIMNMSMOMTNENVNHNJNMNYNCNDOHOKORPARISCSDTNTXUTVTVAWAWVWIWYZipcode *Tell us more about you\nAre you a: *SelectBurn survivorFamily member of burn survivorMedical professional\, counselorFriend of burn survivorSelect your Support Group SelectSpanish-speaking support groupBurn care professional supportBurn SurvivorFamily Support		\n			Name your Name\n			\n		\n		Names of family members joining *Submit
URL:https://www.aarbf.org/event/spanish-speaking-support-group-virtual/2027-03-16/
END:VEVENT
BEGIN:VEVENT
DTSTART;TZID=UTC:20270317T143000
DTEND;TZID=UTC:20270317T153000
DTSTAMP:20260422T073212
CREATED:20241226T202201Z
LAST-MODIFIED:20250116T192752Z
UID:10000313-1805293800-1805297400@www.aarbf.org
SUMMARY:LA General Support Group
DESCRIPTION:This group meets every Wednesday. To register\, please contact us: Please enable JavaScript in your browser to complete this form.Please enable JavaScript in your browser to complete this form.Personal information\nFirst Name *Last Name *Email *Phone *Address\n		\n			City Group Last\n			\n		\n		Street *City *State *SelectALAKAZARCACOCTDEFLGAHIIDILINIAKSKYLAMEMDMAMIMNMSMOMTNENVNHNJNMNYNCNDOHOKORPARISCSDTNTXUTVTVAWAWVWIWYZipcode *Tell us more about you\nAre you a: *SelectBurn survivorFamily member of burn survivorMedical professional\, counselorFriend of burn survivorCommunity PartnerOtherSelect your Support Group *SelectSanta Clara Valley Medical Center\, San JoseUCSF Health Saint Francis Support Group\, San FranciscoFresno Community Regional Medical CenterLA General Support Group\, Los AngelesSubmit
URL:https://www.aarbf.org/event/la-general-support-group/2027-03-17/
END:VEVENT
BEGIN:VEVENT
DTSTART;TZID=UTC:20270318T190000
DTEND;TZID=UTC:20270318T203000
DTSTAMP:20260422T073212
CREATED:20241226T202627Z
LAST-MODIFIED:20250306T224640Z
UID:10000545-1805396400-1805401800@www.aarbf.org
SUMMARY:What Now? Workshop
DESCRIPTION:This workshop occurs on the third Thursday of each month.  To register\, please contact us: Please enable JavaScript in your browser to complete this form.Please enable JavaScript in your browser to complete this form.Personal information\n		\n			of Phone City\n			\n		\n		First Name *Last Name *Email *Phone *Address\nStreet *City *State *SelectALAKAZARCACOCTDEFLGAHIIDILINIAKSKYLAMEMDMAMIMNMSMOMTNENVNHNJNMNYNCNDOHOKORPARISCSDTNTXUTVTVAWAWVWIWYZipcode *Tell us more about you\nAre you a: *SelectBurn survivorFamily member of burn survivorMedical professional\, counselorFriend of burn survivorSelect your Support Group SelectSpanish-speaking support groupBurn care professional supportBurn SurvivorFamily SupportNames of family members joining *Submit
URL:https://www.aarbf.org/event/whatnowworkshop/2027-03-18/
END:VEVENT
BEGIN:VEVENT
DTSTART;TZID=UTC:20270324T143000
DTEND;TZID=UTC:20270324T153000
DTSTAMP:20260422T073212
CREATED:20241226T202201Z
LAST-MODIFIED:20250116T192752Z
UID:10000314-1805898600-1805902200@www.aarbf.org
SUMMARY:LA General Support Group
DESCRIPTION:This group meets every Wednesday. To register\, please contact us: Please enable JavaScript in your browser to complete this form.Please enable JavaScript in your browser to complete this form.Personal information\nFirst Name *Last Name *		\n			Email Phone you\n			\n		\n		Email *Phone *Address\nStreet *City *State *SelectALAKAZARCACOCTDEFLGAHIIDILINIAKSKYLAMEMDMAMIMNMSMOMTNENVNHNJNMNYNCNDOHOKORPARISCSDTNTXUTVTVAWAWVWIWYZipcode *Tell us more about you\nAre you a: *SelectBurn survivorFamily member of burn survivorMedical professional\, counselorFriend of burn survivorCommunity PartnerOtherSelect your Support Group *SelectSanta Clara Valley Medical Center\, San JoseUCSF Health Saint Francis Support Group\, San FranciscoFresno Community Regional Medical CenterLA General Support Group\, Los AngelesSubmit
URL:https://www.aarbf.org/event/la-general-support-group/2027-03-24/
END:VEVENT
BEGIN:VEVENT
DTSTART;TZID=UTC:20270325T113000
DTEND;TZID=UTC:20270325T130000
DTSTAMP:20260422T073212
CREATED:20241226T201336Z
LAST-MODIFIED:20250116T192617Z
UID:10000104-1805974200-1805979600@www.aarbf.org
SUMMARY:UCSF Health Saint Francis Hospital Support Group
DESCRIPTION:This group meets the last Thursday of every month. To register\, please contact us: Please enable JavaScript in your browser to complete this form.Please enable JavaScript in your browser to complete this form.Personal information\nFirst Name *Last Name *Email *Phone *Address\nStreet *City *State *SelectALAKAZARCACOCTDEFLGAHIIDILINIAKSKYLAMEMDMAMIMNMSMOMTNENVNHNJNMNYNCNDOHOKORPARISCSDTNTXUTVTVAWAWVWIWYZipcode *Tell us more about you\n		\n			Name First Group\n			\n		\n		Are you a: *SelectBurn survivorFamily member of burn survivorMedical professional\, counselorFriend of burn survivorCommunity PartnerOtherSelect your Support Group *SelectSanta Clara Valley Medical Center\, San JoseUCSF Health Saint Francis Support Group\, San FranciscoFresno Community Regional Medical CenterLA General Support Group\, Los AngelesSubmit
URL:https://www.aarbf.org/event/ucsf-health-saint-francis-hospital/2027-03-25/
END:VEVENT
BEGIN:VEVENT
DTSTART;TZID=UTC:20270331T143000
DTEND;TZID=UTC:20270331T153000
DTSTAMP:20260422T073212
CREATED:20241226T202201Z
LAST-MODIFIED:20250116T192752Z
UID:10000315-1806503400-1806507000@www.aarbf.org
SUMMARY:LA General Support Group
DESCRIPTION:This group meets every Wednesday. To register\, please contact us: Please enable JavaScript in your browser to complete this form.Please enable JavaScript in your browser to complete this form.Personal information\nFirst Name *Last Name *Email *Phone *Address\n		\n			you Are City\n			\n		\n		Street *City *State *SelectALAKAZARCACOCTDEFLGAHIIDILINIAKSKYLAMEMDMAMIMNMSMOMTNENVNHNJNMNYNCNDOHOKORPARISCSDTNTXUTVTVAWAWVWIWYZipcode *Tell us more about you\nAre you a: *SelectBurn survivorFamily member of burn survivorMedical professional\, counselorFriend of burn survivorCommunity PartnerOtherSelect your Support Group *SelectSanta Clara Valley Medical Center\, San JoseUCSF Health Saint Francis Support Group\, San FranciscoFresno Community Regional Medical CenterLA General Support Group\, Los AngelesSubmit
URL:https://www.aarbf.org/event/la-general-support-group/2027-03-31/
END:VEVENT
END:VCALENDAR