BEGIN:VCALENDAR
VERSION:2.0
PRODID:-//Alisa Ann Ruch Burn Foundation - ECPv6.15.20//NONSGML v1.0//EN
CALSCALE:GREGORIAN
METHOD:PUBLISH
X-ORIGINAL-URL:https://www.aarbf.org
X-WR-CALDESC:Events for Alisa Ann Ruch Burn Foundation
REFRESH-INTERVAL;VALUE=DURATION:PT1H
X-Robots-Tag:noindex
X-PUBLISHED-TTL:PT1H
BEGIN:VTIMEZONE
TZID:UTC
BEGIN:STANDARD
TZOFFSETFROM:+0000
TZOFFSETTO:+0000
TZNAME:UTC
DTSTART:20250101T000000
END:STANDARD
END:VTIMEZONE
BEGIN:VEVENT
DTSTART;TZID=UTC:20261201T190000
DTEND;TZID=UTC:20261201T203000
DTSTAMP:20260422T021128
CREATED:20241226T201054Z
LAST-MODIFIED:20250116T192831Z
UID:10000041-1796151600-1796157000@www.aarbf.org
SUMMARY:Santa Clara Valley Support Group
DESCRIPTION:This group meets the first Tuesday of every month. To register\, please contact us: Please enable JavaScript in your browser to complete this form.Please enable JavaScript in your browser to complete this form.Personal information\n		\n			Layout Select Name\n			\n		\n		First Name *Last Name *Email *Phone *Address\nStreet *City *State *SelectALAKAZARCACOCTDEFLGAHIIDILINIAKSKYLAMEMDMAMIMNMSMOMTNENVNHNJNMNYNCNDOHOKORPARISCSDTNTXUTVTVAWAWVWIWYZipcode *Tell us more about you\nAre you a: *SelectBurn survivorFamily member of burn survivorMedical professional\, counselorFriend of burn survivorCommunity PartnerOtherSelect your Support Group *SelectSanta Clara Valley Medical Center\, San JoseUCSF Health Saint Francis Support Group\, San FranciscoFresno Community Regional Medical CenterLA General Support Group\, Los AngelesSubmit
URL:https://www.aarbf.org/event/santa-clara-valley-support-group/2026-12-01/
END:VEVENT
BEGIN:VEVENT
DTSTART;TZID=UTC:20261202T143000
DTEND;TZID=UTC:20261202T153000
DTSTAMP:20260422T021128
CREATED:20241226T202201Z
LAST-MODIFIED:20250116T192752Z
UID:10000298-1796221800-1796225400@www.aarbf.org
SUMMARY:LA General Support Group
DESCRIPTION:This group meets every Wednesday. To register\, please contact us: Please enable JavaScript in your browser to complete this form.Please enable JavaScript in your browser to complete this form.Personal information\nFirst Name *Last Name *		\n			Support State Are\n			\n		\n		Email *Phone *Address\nStreet *City *State *SelectALAKAZARCACOCTDEFLGAHIIDILINIAKSKYLAMEMDMAMIMNMSMOMTNENVNHNJNMNYNCNDOHOKORPARISCSDTNTXUTVTVAWAWVWIWYZipcode *Tell us more about you\nAre you a: *SelectBurn survivorFamily member of burn survivorMedical professional\, counselorFriend of burn survivorCommunity PartnerOtherSelect your Support Group *SelectSanta Clara Valley Medical Center\, San JoseUCSF Health Saint Francis Support Group\, San FranciscoFresno Community Regional Medical CenterLA General Support Group\, Los AngelesSubmit
URL:https://www.aarbf.org/event/la-general-support-group/2026-12-02/
END:VEVENT
BEGIN:VEVENT
DTSTART;TZID=UTC:20261203T190000
DTEND;TZID=UTC:20261203T203000
DTSTAMP:20260422T021128
CREATED:20241226T202814Z
LAST-MODIFIED:20250924T185528Z
UID:10000602-1796324400-1796329800@www.aarbf.org
SUMMARY:Friends\, Family\, and Caregiver Support Group - Virtual
DESCRIPTION:The group provides opportunities to share experiences\, exchange support\, and learn from others who have walked similar paths. Participants are welcome to share their experiences\, listen\, or take part in whatever way feels comfortable. \n  \nThis virtual support group meets on the first Thursday of each month.  To register\, please contact us: Please enable JavaScript in your browser to complete this form.Please enable JavaScript in your browser to complete this form.Personal information\nFirst Name *Last Name *Email *Phone *Address\n		\n			Phone Last Select\n			\n		\n		Street *City *State *SelectALAKAZARCACOCTDEFLGAHIIDILINIAKSKYLAMEMDMAMIMNMSMOMTNENVNHNJNMNYNCNDOHOKORPARISCSDTNTXUTVTVAWAWVWIWYZipcode *Tell us more about you\nAre you a: *SelectBurn survivorFamily member of burn survivorMedical professional\, counselorFriend of burn survivorSelect your Support Group SelectSpanish-speaking support groupBurn care professional supportBurn SurvivorFamily SupportNames of family members joining *Submit
URL:https://www.aarbf.org/event/friends-family-and-caregiver-support-group-virtual/2026-12-03/
END:VEVENT
BEGIN:VEVENT
DTSTART;TZID=UTC:20261208T183000
DTEND;TZID=UTC:20261208T200000
DTSTAMP:20260422T021128
CREATED:20241226T202012Z
LAST-MODIFIED:20250116T192708Z
UID:10000162-1796754600-1796760000@www.aarbf.org
SUMMARY:Fresno CRMC Support Group
DESCRIPTION:This group meets the second Tuesday of every month. To register\, please contact us: Please enable JavaScript in your browser to complete this form.Please enable JavaScript in your browser to complete this form.Personal information\nFirst Name *Last Name *Email *Phone *Address\nStreet *City *State *SelectALAKAZARCACOCTDEFLGAHIIDILINIAKSKYLAMEMDMAMIMNMSMOMTNENVNHNJNMNYNCNDOHOKORPARISCSDTNTXUTVTVAWAWVWIWYZipcode *Tell us more about you\nAre you a: *SelectBurn survivorFamily member of burn survivorMedical professional\, counselorFriend of burn survivorCommunity PartnerOther		\n			you Phone Are\n			\n		\n		Select your Support Group *SelectSanta Clara Valley Medical Center\, San JoseUCSF Health Saint Francis Support Group\, San FranciscoFresno Community Regional Medical CenterLA General Support Group\, Los AngelesSubmit
URL:https://www.aarbf.org/event/fresno-crmc-support-group/2026-12-08/
END:VEVENT
BEGIN:VEVENT
DTSTART;TZID=UTC:20261209T143000
DTEND;TZID=UTC:20261209T153000
DTSTAMP:20260422T021128
CREATED:20241226T202201Z
LAST-MODIFIED:20250116T192752Z
UID:10000299-1796826600-1796830200@www.aarbf.org
SUMMARY:LA General Support Group
DESCRIPTION:This group meets every Wednesday. To register\, please contact us: Please enable JavaScript in your browser to complete this form.Please enable JavaScript in your browser to complete this form.Personal information\nFirst Name *Last Name *Email *Phone *Address\nStreet *City *State *SelectALAKAZARCACOCTDEFLGAHIIDILINIAKSKYLAMEMDMAMIMNMSMOMTNENVNHNJNMNYNCNDOHOKORPARISCSDTNTXUTVTVAWAWVWIWYZipcode *		\n			First you Street\n			\n		\n		Tell us more about you\nAre you a: *SelectBurn survivorFamily member of burn survivorMedical professional\, counselorFriend of burn survivorCommunity PartnerOtherSelect your Support Group *SelectSanta Clara Valley Medical Center\, San JoseUCSF Health Saint Francis Support Group\, San FranciscoFresno Community Regional Medical CenterLA General Support Group\, Los AngelesSubmit
URL:https://www.aarbf.org/event/la-general-support-group/2026-12-09/
END:VEVENT
BEGIN:VEVENT
DTSTART;TZID=UTC:20261209T183000
DTEND;TZID=UTC:20261209T200000
DTSTAMP:20260422T021128
CREATED:20241226T202450Z
LAST-MODIFIED:20250114T183924Z
UID:10000482-1796841000-1796846400@www.aarbf.org
SUMMARY:Burn Support Group - Virtual
DESCRIPTION:This virtual support group meets on the second Wednesday of each month.  To register\, please contact us: Please enable JavaScript in your browser to complete this form.Please enable JavaScript in your browser to complete this form.Personal information\nFirst Name *Last Name *Email *Phone *Address\nStreet *City *State *SelectALAKAZARCACOCTDEFLGAHIIDILINIAKSKYLAMEMDMAMIMNMSMOMTNENVNHNJNMNYNCNDOHOKORPARISCSDTNTXUTVTVAWAWVWIWYZipcode *Tell us more about you\nAre you a: *SelectBurn survivorFamily member of burn survivorMedical professional\, counselorFriend of burn survivor		\n			City family Layout\n			\n		\n		Select your Support Group SelectSpanish-speaking support groupBurn care professional supportBurn SurvivorFamily SupportNames of family members joining *Submit
URL:https://www.aarbf.org/event/burn-support-group-virtual/2026-12-09/
END:VEVENT
BEGIN:VEVENT
DTSTART;TZID=UTC:20261210T183000
DTEND;TZID=UTC:20261210T200000
DTSTAMP:20260422T021128
CREATED:20250203T212604Z
LAST-MODIFIED:20250507T005730Z
UID:10001198-1796927400-1796932800@www.aarbf.org
SUMMARY:Burn Care Professionals Support Group - Virtual
DESCRIPTION:This virtual support group meets on the second Thursday of each month.  To register\, please contact us: Please enable JavaScript in your browser to complete this form.Please enable JavaScript in your browser to complete this form.Personal information\nFirst Name *Last Name *Email *Phone *		\n			Email members Select\n			\n		\n		Address\nStreet *City *State *SelectALAKAZARCACOCTDEFLGAHIIDILINIAKSKYLAMEMDMAMIMNMSMOMTNENVNHNJNMNYNCNDOHOKORPARISCSDTNTXUTVTVAWAWVWIWYZipcode *Tell us more about you\nAre you a: *SelectBurn survivorFamily member of burn survivorMedical professional\, counselorFriend of burn survivorSelect your Support Group SelectSpanish-speaking support groupBurn care professional supportBurn SurvivorFamily SupportNames of family members joining *Submit
URL:https://www.aarbf.org/event/burn-care-professionals-support-group-virtual-2/2026-12-10/
ATTACH;FMTTYPE=image/jpeg:https://www.aarbf.org/wp-content/uploads/2025/02/BurnCarePro.jpg
END:VEVENT
BEGIN:VEVENT
DTSTART;TZID=UTC:20261215T180000
DTEND;TZID=UTC:20261215T193000
DTSTAMP:20260422T021128
CREATED:20241226T202930Z
LAST-MODIFIED:20250114T183251Z
UID:10000662-1797357600-1797363000@www.aarbf.org
SUMMARY:Spanish-Speaking Support Group - Virtual
DESCRIPTION:This virtual support group meets on the third Tuesday of each month.  To register\, please contact us: Please enable JavaScript in your browser to complete this form.Please enable JavaScript in your browser to complete this form.Personal information\nFirst Name *Last Name *Email *Phone *Address\nStreet *City *State *SelectALAKAZARCACOCTDEFLGAHIIDILINIAKSKYLAMEMDMAMIMNMSMOMTNENVNHNJNMNYNCNDOHOKORPARISCSDTNTXUTVTVAWAWVWIWYZipcode *Tell us more about you\n		\n			Last joining Name\n			\n		\n		Are you a: *SelectBurn survivorFamily member of burn survivorMedical professional\, counselorFriend of burn survivorSelect your Support Group SelectSpanish-speaking support groupBurn care professional supportBurn SurvivorFamily SupportNames of family members joining *Submit
URL:https://www.aarbf.org/event/spanish-speaking-support-group-virtual/2026-12-15/
END:VEVENT
BEGIN:VEVENT
DTSTART;TZID=UTC:20261216T143000
DTEND;TZID=UTC:20261216T153000
DTSTAMP:20260422T021128
CREATED:20241226T202201Z
LAST-MODIFIED:20250116T192752Z
UID:10000300-1797431400-1797435000@www.aarbf.org
SUMMARY:LA General Support Group
DESCRIPTION:This group meets every Wednesday. To register\, please contact us: Please enable JavaScript in your browser to complete this form.Please enable JavaScript in your browser to complete this form.Personal information\nFirst Name *Last Name *Email *Phone *		\n			Last a: Name\n			\n		\n		Address\nStreet *City *State *SelectALAKAZARCACOCTDEFLGAHIIDILINIAKSKYLAMEMDMAMIMNMSMOMTNENVNHNJNMNYNCNDOHOKORPARISCSDTNTXUTVTVAWAWVWIWYZipcode *Tell us more about you\nAre you a: *SelectBurn survivorFamily member of burn survivorMedical professional\, counselorFriend of burn survivorCommunity PartnerOtherSelect your Support Group *SelectSanta Clara Valley Medical Center\, San JoseUCSF Health Saint Francis Support Group\, San FranciscoFresno Community Regional Medical CenterLA General Support Group\, Los AngelesSubmit
URL:https://www.aarbf.org/event/la-general-support-group/2026-12-16/
END:VEVENT
BEGIN:VEVENT
DTSTART;TZID=UTC:20261217T190000
DTEND;TZID=UTC:20261217T203000
DTSTAMP:20260422T021128
CREATED:20241226T202627Z
LAST-MODIFIED:20250306T224640Z
UID:10000542-1797534000-1797539400@www.aarbf.org
SUMMARY:What Now? Workshop
DESCRIPTION:This workshop occurs on the third Thursday of each month.  To register\, please contact us: Please enable JavaScript in your browser to complete this form.Please enable JavaScript in your browser to complete this form.Personal information\nFirst Name *Last Name *Email *Phone *Address\nStreet *City *State *SelectALAKAZARCACOCTDEFLGAHIIDILINIAKSKYLAMEMDMAMIMNMSMOMTNENVNHNJNMNYNCNDOHOKORPARISCSDTNTXUTVTVAWAWVWIWYZipcode *		\n			family Layout Support\n			\n		\n		Tell us more about you\nAre you a: *SelectBurn survivorFamily member of burn survivorMedical professional\, counselorFriend of burn survivorSelect your Support Group SelectSpanish-speaking support groupBurn care professional supportBurn SurvivorFamily SupportNames of family members joining *Submit
URL:https://www.aarbf.org/event/whatnowworkshop/2026-12-17/
END:VEVENT
BEGIN:VEVENT
DTSTART;TZID=UTC:20261223T143000
DTEND;TZID=UTC:20261223T153000
DTSTAMP:20260422T021128
CREATED:20241226T202201Z
LAST-MODIFIED:20250116T192752Z
UID:10000301-1798036200-1798039800@www.aarbf.org
SUMMARY:LA General Support Group
DESCRIPTION:This group meets every Wednesday. To register\, please contact us: Please enable JavaScript in your browser to complete this form.Please enable JavaScript in your browser to complete this form.Personal information\nFirst Name *Last Name *Email *Phone *Address\n		\n			a: First Name\n			\n		\n		Street *City *State *SelectALAKAZARCACOCTDEFLGAHIIDILINIAKSKYLAMEMDMAMIMNMSMOMTNENVNHNJNMNYNCNDOHOKORPARISCSDTNTXUTVTVAWAWVWIWYZipcode *Tell us more about you\nAre you a: *SelectBurn survivorFamily member of burn survivorMedical professional\, counselorFriend of burn survivorCommunity PartnerOtherSelect your Support Group *SelectSanta Clara Valley Medical Center\, San JoseUCSF Health Saint Francis Support Group\, San FranciscoFresno Community Regional Medical CenterLA General Support Group\, Los AngelesSubmit
URL:https://www.aarbf.org/event/la-general-support-group/2026-12-23/
END:VEVENT
BEGIN:VEVENT
DTSTART;TZID=UTC:20261230T143000
DTEND;TZID=UTC:20261230T153000
DTSTAMP:20260422T021128
CREATED:20241226T202201Z
LAST-MODIFIED:20250116T192752Z
UID:10000302-1798641000-1798644600@www.aarbf.org
SUMMARY:LA General Support Group
DESCRIPTION:This group meets every Wednesday. To register\, please contact us: Please enable JavaScript in your browser to complete this form.Please enable JavaScript in your browser to complete this form.Personal information\nFirst Name *Last Name *		\n			Layout Phone First\n			\n		\n		Email *Phone *Address\nStreet *City *State *SelectALAKAZARCACOCTDEFLGAHIIDILINIAKSKYLAMEMDMAMIMNMSMOMTNENVNHNJNMNYNCNDOHOKORPARISCSDTNTXUTVTVAWAWVWIWYZipcode *Tell us more about you\nAre you a: *SelectBurn survivorFamily member of burn survivorMedical professional\, counselorFriend of burn survivorCommunity PartnerOtherSelect your Support Group *SelectSanta Clara Valley Medical Center\, San JoseUCSF Health Saint Francis Support Group\, San FranciscoFresno Community Regional Medical CenterLA General Support Group\, Los AngelesSubmit
URL:https://www.aarbf.org/event/la-general-support-group/2026-12-30/
END:VEVENT
BEGIN:VEVENT
DTSTART;TZID=UTC:20261231T113000
DTEND;TZID=UTC:20261231T130000
DTSTAMP:20260422T021128
CREATED:20241226T201336Z
LAST-MODIFIED:20250116T192617Z
UID:10000101-1798716600-1798722000@www.aarbf.org
SUMMARY:UCSF Health Saint Francis Hospital Support Group
DESCRIPTION:This group meets the last Thursday of every month. To register\, please contact us: Please enable JavaScript in your browser to complete this form.Please enable JavaScript in your browser to complete this form.Personal information\n		\n			Are Zipcode Street\n			\n		\n		First Name *Last Name *Email *Phone *Address\nStreet *City *State *SelectALAKAZARCACOCTDEFLGAHIIDILINIAKSKYLAMEMDMAMIMNMSMOMTNENVNHNJNMNYNCNDOHOKORPARISCSDTNTXUTVTVAWAWVWIWYZipcode *Tell us more about you\nAre you a: *SelectBurn survivorFamily member of burn survivorMedical professional\, counselorFriend of burn survivorCommunity PartnerOtherSelect your Support Group *SelectSanta Clara Valley Medical Center\, San JoseUCSF Health Saint Francis Support Group\, San FranciscoFresno Community Regional Medical CenterLA General Support Group\, Los AngelesSubmit
URL:https://www.aarbf.org/event/ucsf-health-saint-francis-hospital/2026-12-31/
END:VEVENT
END:VCALENDAR