BEGIN:VCALENDAR
VERSION:2.0
PRODID:-//Alisa Ann Ruch Burn Foundation - ECPv6.15.20//NONSGML v1.0//EN
CALSCALE:GREGORIAN
METHOD:PUBLISH
X-ORIGINAL-URL:https://www.aarbf.org
X-WR-CALDESC:Events for Alisa Ann Ruch Burn Foundation
REFRESH-INTERVAL;VALUE=DURATION:PT1H
X-Robots-Tag:noindex
X-PUBLISHED-TTL:PT1H
BEGIN:VTIMEZONE
TZID:UTC
BEGIN:STANDARD
TZOFFSETFROM:+0000
TZOFFSETTO:+0000
TZNAME:UTC
DTSTART:20250101T000000
END:STANDARD
END:VTIMEZONE
BEGIN:VEVENT
DTSTART;TZID=UTC:20260901T190000
DTEND;TZID=UTC:20260901T203000
DTSTAMP:20260421T205411
CREATED:20241226T201054Z
LAST-MODIFIED:20250116T192831Z
UID:10000038-1788289200-1788294600@www.aarbf.org
SUMMARY:Santa Clara Valley Support Group
DESCRIPTION:This group meets the first Tuesday of every month. To register\, please contact us: Please enable JavaScript in your browser to complete this form.Please enable JavaScript in your browser to complete this form.Personal information\nFirst Name *Last Name *Email *Phone *Address\nStreet *		\n			Select Layout Support\n			\n		\n		City *State *SelectALAKAZARCACOCTDEFLGAHIIDILINIAKSKYLAMEMDMAMIMNMSMOMTNENVNHNJNMNYNCNDOHOKORPARISCSDTNTXUTVTVAWAWVWIWYZipcode *Tell us more about you\nAre you a: *SelectBurn survivorFamily member of burn survivorMedical professional\, counselorFriend of burn survivorCommunity PartnerOtherSelect your Support Group *SelectSanta Clara Valley Medical Center\, San JoseUCSF Health Saint Francis Support Group\, San FranciscoFresno Community Regional Medical CenterLA General Support Group\, Los AngelesSubmit
URL:https://www.aarbf.org/event/santa-clara-valley-support-group/2026-09-01/
END:VEVENT
BEGIN:VEVENT
DTSTART;TZID=UTC:20260902T143000
DTEND;TZID=UTC:20260902T153000
DTSTAMP:20260421T205411
CREATED:20241226T202201Z
LAST-MODIFIED:20250116T192752Z
UID:10000285-1788359400-1788363000@www.aarbf.org
SUMMARY:LA General Support Group
DESCRIPTION:This group meets every Wednesday. To register\, please contact us: Please enable JavaScript in your browser to complete this form.Please enable JavaScript in your browser to complete this form.Personal information\nFirst Name *Last Name *		\n			Email Street Group\n			\n		\n		Email *Phone *Address\nStreet *City *State *SelectALAKAZARCACOCTDEFLGAHIIDILINIAKSKYLAMEMDMAMIMNMSMOMTNENVNHNJNMNYNCNDOHOKORPARISCSDTNTXUTVTVAWAWVWIWYZipcode *Tell us more about you\nAre you a: *SelectBurn survivorFamily member of burn survivorMedical professional\, counselorFriend of burn survivorCommunity PartnerOtherSelect your Support Group *SelectSanta Clara Valley Medical Center\, San JoseUCSF Health Saint Francis Support Group\, San FranciscoFresno Community Regional Medical CenterLA General Support Group\, Los AngelesSubmit
URL:https://www.aarbf.org/event/la-general-support-group/2026-09-02/
END:VEVENT
BEGIN:VEVENT
DTSTART;TZID=UTC:20260903T190000
DTEND;TZID=UTC:20260903T203000
DTSTAMP:20260421T205411
CREATED:20241226T202814Z
LAST-MODIFIED:20250924T185528Z
UID:10000599-1788462000-1788467400@www.aarbf.org
SUMMARY:Friends\, Family\, and Caregiver Support Group - Virtual
DESCRIPTION:The group provides opportunities to share experiences\, exchange support\, and learn from others who have walked similar paths. Participants are welcome to share their experiences\, listen\, or take part in whatever way feels comfortable. \n  \nThis virtual support group meets on the first Thursday of each month.  To register\, please contact us: Please enable JavaScript in your browser to complete this form.Please enable JavaScript in your browser to complete this form.Personal information\n		\n			Select  Street\n			\n		\n		First Name *Last Name *Email *Phone *Address\nStreet *City *State *SelectALAKAZARCACOCTDEFLGAHIIDILINIAKSKYLAMEMDMAMIMNMSMOMTNENVNHNJNMNYNCNDOHOKORPARISCSDTNTXUTVTVAWAWVWIWYZipcode *Tell us more about you\nAre you a: *SelectBurn survivorFamily member of burn survivorMedical professional\, counselorFriend of burn survivorSelect your Support Group SelectSpanish-speaking support groupBurn care professional supportBurn SurvivorFamily SupportNames of family members joining *Submit
URL:https://www.aarbf.org/event/friends-family-and-caregiver-support-group-virtual/2026-09-03/
END:VEVENT
BEGIN:VEVENT
DTSTART;TZID=UTC:20260908T183000
DTEND;TZID=UTC:20260908T200000
DTSTAMP:20260421T205412
CREATED:20241226T202012Z
LAST-MODIFIED:20250116T192708Z
UID:10000159-1788892200-1788897600@www.aarbf.org
SUMMARY:Fresno CRMC Support Group
DESCRIPTION:This group meets the second Tuesday of every month. To register\, please contact us: Please enable JavaScript in your browser to complete this form.Please enable JavaScript in your browser to complete this form.Personal information\nFirst Name *Last Name *		\n			Last Zipcode Name\n			\n		\n		Email *Phone *Address\nStreet *City *State *SelectALAKAZARCACOCTDEFLGAHIIDILINIAKSKYLAMEMDMAMIMNMSMOMTNENVNHNJNMNYNCNDOHOKORPARISCSDTNTXUTVTVAWAWVWIWYZipcode *Tell us more about you\nAre you a: *SelectBurn survivorFamily member of burn survivorMedical professional\, counselorFriend of burn survivorCommunity PartnerOtherSelect your Support Group *SelectSanta Clara Valley Medical Center\, San JoseUCSF Health Saint Francis Support Group\, San FranciscoFresno Community Regional Medical CenterLA General Support Group\, Los AngelesSubmit
URL:https://www.aarbf.org/event/fresno-crmc-support-group/2026-09-08/
END:VEVENT
BEGIN:VEVENT
DTSTART;TZID=UTC:20260909T143000
DTEND;TZID=UTC:20260909T153000
DTSTAMP:20260421T205412
CREATED:20241226T202201Z
LAST-MODIFIED:20250116T192752Z
UID:10000286-1788964200-1788967800@www.aarbf.org
SUMMARY:LA General Support Group
DESCRIPTION:This group meets every Wednesday. To register\, please contact us: Please enable JavaScript in your browser to complete this form.Please enable JavaScript in your browser to complete this form.		\n			Phone Zipcode Support\n			\n		\n		Personal information\nFirst Name *Last Name *Email *Phone *Address\nStreet *City *State *SelectALAKAZARCACOCTDEFLGAHIIDILINIAKSKYLAMEMDMAMIMNMSMOMTNENVNHNJNMNYNCNDOHOKORPARISCSDTNTXUTVTVAWAWVWIWYZipcode *Tell us more about you\nAre you a: *SelectBurn survivorFamily member of burn survivorMedical professional\, counselorFriend of burn survivorCommunity PartnerOtherSelect your Support Group *SelectSanta Clara Valley Medical Center\, San JoseUCSF Health Saint Francis Support Group\, San FranciscoFresno Community Regional Medical CenterLA General Support Group\, Los AngelesSubmit
URL:https://www.aarbf.org/event/la-general-support-group/2026-09-09/
END:VEVENT
BEGIN:VEVENT
DTSTART;TZID=UTC:20260909T183000
DTEND;TZID=UTC:20260909T200000
DTSTAMP:20260421T205412
CREATED:20241226T202450Z
LAST-MODIFIED:20250114T183924Z
UID:10000479-1788978600-1788984000@www.aarbf.org
SUMMARY:Burn Support Group - Virtual
DESCRIPTION:This virtual support group meets on the second Wednesday of each month.  To register\, please contact us: Please enable JavaScript in your browser to complete this form.Please enable JavaScript in your browser to complete this form.Personal information\nFirst Name *Last Name *Email *Phone *Address\nStreet *City *State *SelectALAKAZARCACOCTDEFLGAHIIDILINIAKSKYLAMEMDMAMIMNMSMOMTNENVNHNJNMNYNCNDOHOKORPARISCSDTNTXUTVTVAWAWVWIWYZipcode *Tell us more about you\nAre you a: *SelectBurn survivorFamily member of burn survivorMedical professional\, counselorFriend of burn survivorSelect your Support Group SelectSpanish-speaking support groupBurn care professional supportBurn SurvivorFamily Support		\n			family Zipcode Group\n			\n		\n		Names of family members joining *Submit
URL:https://www.aarbf.org/event/burn-support-group-virtual/2026-09-09/
END:VEVENT
BEGIN:VEVENT
DTSTART;TZID=UTC:20260910T183000
DTEND;TZID=UTC:20260910T200000
DTSTAMP:20260421T205412
CREATED:20250203T212604Z
LAST-MODIFIED:20250507T005730Z
UID:10001195-1789065000-1789070400@www.aarbf.org
SUMMARY:Burn Care Professionals Support Group - Virtual
DESCRIPTION:This virtual support group meets on the second Thursday of each month.  To register\, please contact us: Please enable JavaScript in your browser to complete this form.Please enable JavaScript in your browser to complete this form.Personal information\nFirst Name *Last Name *Email *Phone *Address\nStreet *City *State *SelectALAKAZARCACOCTDEFLGAHIIDILINIAKSKYLAMEMDMAMIMNMSMOMTNENVNHNJNMNYNCNDOHOKORPARISCSDTNTXUTVTVAWAWVWIWYZipcode *		\n			Select Last Name\n			\n		\n		Tell us more about you\nAre you a: *SelectBurn survivorFamily member of burn survivorMedical professional\, counselorFriend of burn survivorSelect your Support Group SelectSpanish-speaking support groupBurn care professional supportBurn SurvivorFamily SupportNames of family members joining *Submit
URL:https://www.aarbf.org/event/burn-care-professionals-support-group-virtual-2/2026-09-10/
ATTACH;FMTTYPE=image/jpeg:https://www.aarbf.org/wp-content/uploads/2025/02/BurnCarePro.jpg
END:VEVENT
BEGIN:VEVENT
DTSTART;TZID=UTC:20260915T180000
DTEND;TZID=UTC:20260915T193000
DTSTAMP:20260421T205412
CREATED:20241226T202930Z
LAST-MODIFIED:20250114T183251Z
UID:10000659-1789495200-1789500600@www.aarbf.org
SUMMARY:Spanish-Speaking Support Group - Virtual
DESCRIPTION:This virtual support group meets on the third Tuesday of each month.  To register\, please contact us: Please enable JavaScript in your browser to complete this form.Please enable JavaScript in your browser to complete this form.Personal information\n		\n			Last members of\n			\n		\n		First Name *Last Name *Email *Phone *Address\nStreet *City *State *SelectALAKAZARCACOCTDEFLGAHIIDILINIAKSKYLAMEMDMAMIMNMSMOMTNENVNHNJNMNYNCNDOHOKORPARISCSDTNTXUTVTVAWAWVWIWYZipcode *Tell us more about you\nAre you a: *SelectBurn survivorFamily member of burn survivorMedical professional\, counselorFriend of burn survivorSelect your Support Group SelectSpanish-speaking support groupBurn care professional supportBurn SurvivorFamily SupportNames of family members joining *Submit
URL:https://www.aarbf.org/event/spanish-speaking-support-group-virtual/2026-09-15/
END:VEVENT
BEGIN:VEVENT
DTSTART;TZID=UTC:20260916T143000
DTEND;TZID=UTC:20260916T153000
DTSTAMP:20260421T205412
CREATED:20241226T202201Z
LAST-MODIFIED:20250116T192752Z
UID:10000287-1789569000-1789572600@www.aarbf.org
SUMMARY:LA General Support Group
DESCRIPTION:This group meets every Wednesday. To register\, please contact us: Please enable JavaScript in your browser to complete this form.Please enable JavaScript in your browser to complete this form.		\n			Name Are a:\n			\n		\n		Personal information\nFirst Name *Last Name *Email *Phone *Address\nStreet *City *State *SelectALAKAZARCACOCTDEFLGAHIIDILINIAKSKYLAMEMDMAMIMNMSMOMTNENVNHNJNMNYNCNDOHOKORPARISCSDTNTXUTVTVAWAWVWIWYZipcode *Tell us more about you\nAre you a: *SelectBurn survivorFamily member of burn survivorMedical professional\, counselorFriend of burn survivorCommunity PartnerOtherSelect your Support Group *SelectSanta Clara Valley Medical Center\, San JoseUCSF Health Saint Francis Support Group\, San FranciscoFresno Community Regional Medical CenterLA General Support Group\, Los AngelesSubmit
URL:https://www.aarbf.org/event/la-general-support-group/2026-09-16/
END:VEVENT
BEGIN:VEVENT
DTSTART;TZID=UTC:20260917T190000
DTEND;TZID=UTC:20260917T203000
DTSTAMP:20260421T205412
CREATED:20241226T202627Z
LAST-MODIFIED:20250306T224640Z
UID:10000539-1789671600-1789677000@www.aarbf.org
SUMMARY:What Now? Workshop
DESCRIPTION:This workshop occurs on the third Thursday of each month.  To register\, please contact us: Please enable JavaScript in your browser to complete this form.Please enable JavaScript in your browser to complete this form.		\n			Name a: Name\n			\n		\n		Personal information\nFirst Name *Last Name *Email *Phone *Address\nStreet *City *State *SelectALAKAZARCACOCTDEFLGAHIIDILINIAKSKYLAMEMDMAMIMNMSMOMTNENVNHNJNMNYNCNDOHOKORPARISCSDTNTXUTVTVAWAWVWIWYZipcode *Tell us more about you\nAre you a: *SelectBurn survivorFamily member of burn survivorMedical professional\, counselorFriend of burn survivorSelect your Support Group SelectSpanish-speaking support groupBurn care professional supportBurn SurvivorFamily SupportNames of family members joining *Submit
URL:https://www.aarbf.org/event/whatnowworkshop/2026-09-17/
END:VEVENT
BEGIN:VEVENT
DTSTART;TZID=UTC:20260923T143000
DTEND;TZID=UTC:20260923T153000
DTSTAMP:20260421T205412
CREATED:20241226T202201Z
LAST-MODIFIED:20250116T192752Z
UID:10000288-1790173800-1790177400@www.aarbf.org
SUMMARY:LA General Support Group
DESCRIPTION:This group meets every Wednesday. To register\, please contact us: Please enable JavaScript in your browser to complete this form.Please enable JavaScript in your browser to complete this form.Personal information\nFirst Name *Last Name *Email *Phone *Address\nStreet *City *State *SelectALAKAZARCACOCTDEFLGAHIIDILINIAKSKYLAMEMDMAMIMNMSMOMTNENVNHNJNMNYNCNDOHOKORPARISCSDTNTXUTVTVAWAWVWIWYZipcode *Tell us more about you\nAre you a: *SelectBurn survivorFamily member of burn survivorMedical professional\, counselorFriend of burn survivorCommunity PartnerOther		\n			Email Layout Phone\n			\n		\n		Select your Support Group *SelectSanta Clara Valley Medical Center\, San JoseUCSF Health Saint Francis Support Group\, San FranciscoFresno Community Regional Medical CenterLA General Support Group\, Los AngelesSubmit
URL:https://www.aarbf.org/event/la-general-support-group/2026-09-23/
END:VEVENT
BEGIN:VEVENT
DTSTART;TZID=UTC:20260924T113000
DTEND;TZID=UTC:20260924T130000
DTSTAMP:20260421T205412
CREATED:20241226T201336Z
LAST-MODIFIED:20250116T192617Z
UID:10000098-1790249400-1790254800@www.aarbf.org
SUMMARY:UCSF Health Saint Francis Hospital Support Group
DESCRIPTION:This group meets the last Thursday of every month. To register\, please contact us: Please enable JavaScript in your browser to complete this form.Please enable JavaScript in your browser to complete this form.Personal information\nFirst Name *Last Name *Email *Phone *		\n			Group you a:\n			\n		\n		Address\nStreet *City *State *SelectALAKAZARCACOCTDEFLGAHIIDILINIAKSKYLAMEMDMAMIMNMSMOMTNENVNHNJNMNYNCNDOHOKORPARISCSDTNTXUTVTVAWAWVWIWYZipcode *Tell us more about you\nAre you a: *SelectBurn survivorFamily member of burn survivorMedical professional\, counselorFriend of burn survivorCommunity PartnerOtherSelect your Support Group *SelectSanta Clara Valley Medical Center\, San JoseUCSF Health Saint Francis Support Group\, San FranciscoFresno Community Regional Medical CenterLA General Support Group\, Los AngelesSubmit
URL:https://www.aarbf.org/event/ucsf-health-saint-francis-hospital/2026-09-24/
END:VEVENT
BEGIN:VEVENT
DTSTART;TZID=UTC:20260926T170000
DTEND;TZID=UTC:20260926T220000
DTSTAMP:20260421T205412
CREATED:20260402T185021Z
LAST-MODIFIED:20260402T185021Z
UID:10001295-1790442000-1790460000@www.aarbf.org
SUMMARY:AARBF's Dinner & Dance
DESCRIPTION:Watch for more information coming soon on this annual event!
URL:https://www.aarbf.org/event/aarbfs-dinner-dance/
END:VEVENT
BEGIN:VEVENT
DTSTART;TZID=UTC:20260930T143000
DTEND;TZID=UTC:20260930T153000
DTSTAMP:20260421T205412
CREATED:20241226T202201Z
LAST-MODIFIED:20250116T192752Z
UID:10000289-1790778600-1790782200@www.aarbf.org
SUMMARY:LA General Support Group
DESCRIPTION:This group meets every Wednesday. To register\, please contact us: Please enable JavaScript in your browser to complete this form.Please enable JavaScript in your browser to complete this form.Personal information\nFirst Name *Last Name *Email *Phone *		\n			State Name Layout\n			\n		\n		Address\nStreet *City *State *SelectALAKAZARCACOCTDEFLGAHIIDILINIAKSKYLAMEMDMAMIMNMSMOMTNENVNHNJNMNYNCNDOHOKORPARISCSDTNTXUTVTVAWAWVWIWYZipcode *Tell us more about you\nAre you a: *SelectBurn survivorFamily member of burn survivorMedical professional\, counselorFriend of burn survivorCommunity PartnerOtherSelect your Support Group *SelectSanta Clara Valley Medical Center\, San JoseUCSF Health Saint Francis Support Group\, San FranciscoFresno Community Regional Medical CenterLA General Support Group\, Los AngelesSubmit
URL:https://www.aarbf.org/event/la-general-support-group/2026-09-30/
END:VEVENT
END:VCALENDAR