BEGIN:VCALENDAR
VERSION:2.0
PRODID:-//Alisa Ann Ruch Burn Foundation - ECPv6.15.20//NONSGML v1.0//EN
CALSCALE:GREGORIAN
METHOD:PUBLISH
X-WR-CALNAME:Alisa Ann Ruch Burn Foundation
X-ORIGINAL-URL:https://www.aarbf.org
X-WR-CALDESC:Events for Alisa Ann Ruch Burn Foundation
REFRESH-INTERVAL;VALUE=DURATION:PT1H
X-Robots-Tag:noindex
X-PUBLISHED-TTL:PT1H
BEGIN:VTIMEZONE
TZID:UTC
BEGIN:STANDARD
TZOFFSETFROM:+0000
TZOFFSETTO:+0000
TZNAME:UTC
DTSTART:20250101T000000
END:STANDARD
END:VTIMEZONE
BEGIN:VEVENT
DTSTART;TZID=UTC:20260602T190000
DTEND;TZID=UTC:20260602T203000
DTSTAMP:20260421T152112
CREATED:20241226T201054Z
LAST-MODIFIED:20250116T192831Z
UID:10000035-1780426800-1780432200@www.aarbf.org
SUMMARY:Santa Clara Valley Support Group
DESCRIPTION:This group meets the first Tuesday of every month. To register\, please contact us: Please enable JavaScript in your browser to complete this form.Please enable JavaScript in your browser to complete this form.Personal information\nFirst Name *Last Name *Email *Phone *Address\nStreet *City *State *SelectALAKAZARCACOCTDEFLGAHIIDILINIAKSKYLAMEMDMAMIMNMSMOMTNENVNHNJNMNYNCNDOHOKORPARISCSDTNTXUTVTVAWAWVWIWYZipcode *		\n			Email Layout your\n			\n		\n		Tell us more about you\nAre you a: *SelectBurn survivorFamily member of burn survivorMedical professional\, counselorFriend of burn survivorCommunity PartnerOtherSelect your Support Group *SelectSanta Clara Valley Medical Center\, San JoseUCSF Health Saint Francis Support Group\, San FranciscoFresno Community Regional Medical CenterLA General Support Group\, Los AngelesSubmit
URL:https://www.aarbf.org/event/santa-clara-valley-support-group/2026-06-02/
END:VEVENT
BEGIN:VEVENT
DTSTART;TZID=UTC:20260603T143000
DTEND;TZID=UTC:20260603T153000
DTSTAMP:20260421T152112
CREATED:20241226T202201Z
LAST-MODIFIED:20250116T192752Z
UID:10000272-1780497000-1780500600@www.aarbf.org
SUMMARY:LA General Support Group
DESCRIPTION:This group meets every Wednesday. To register\, please contact us: Please enable JavaScript in your browser to complete this form.Please enable JavaScript in your browser to complete this form.Personal information\nFirst Name *Last Name *Email *Phone *Address\nStreet *City *State *SelectALAKAZARCACOCTDEFLGAHIIDILINIAKSKYLAMEMDMAMIMNMSMOMTNENVNHNJNMNYNCNDOHOKORPARISCSDTNTXUTVTVAWAWVWIWYZipcode *		\n			you Layout Are\n			\n		\n		Tell us more about you\nAre you a: *SelectBurn survivorFamily member of burn survivorMedical professional\, counselorFriend of burn survivorCommunity PartnerOtherSelect your Support Group *SelectSanta Clara Valley Medical Center\, San JoseUCSF Health Saint Francis Support Group\, San FranciscoFresno Community Regional Medical CenterLA General Support Group\, Los AngelesSubmit
URL:https://www.aarbf.org/event/la-general-support-group/2026-06-03/
END:VEVENT
BEGIN:VEVENT
DTSTART;TZID=UTC:20260604T190000
DTEND;TZID=UTC:20260604T203000
DTSTAMP:20260421T152112
CREATED:20241226T202814Z
LAST-MODIFIED:20250924T185528Z
UID:10000596-1780599600-1780605000@www.aarbf.org
SUMMARY:Friends\, Family\, and Caregiver Support Group - Virtual
DESCRIPTION:The group provides opportunities to share experiences\, exchange support\, and learn from others who have walked similar paths. Participants are welcome to share their experiences\, listen\, or take part in whatever way feels comfortable. \n  \nThis virtual support group meets on the first Thursday of each month.  To register\, please contact us: Please enable JavaScript in your browser to complete this form.Please enable JavaScript in your browser to complete this form.Personal information\nFirst Name *Last Name *Email *Phone *Address\n		\n			State Names you\n			\n		\n		Street *City *State *SelectALAKAZARCACOCTDEFLGAHIIDILINIAKSKYLAMEMDMAMIMNMSMOMTNENVNHNJNMNYNCNDOHOKORPARISCSDTNTXUTVTVAWAWVWIWYZipcode *Tell us more about you\nAre you a: *SelectBurn survivorFamily member of burn survivorMedical professional\, counselorFriend of burn survivorSelect your Support Group SelectSpanish-speaking support groupBurn care professional supportBurn SurvivorFamily SupportNames of family members joining *Submit
URL:https://www.aarbf.org/event/friends-family-and-caregiver-support-group-virtual/2026-06-04/
END:VEVENT
BEGIN:VEVENT
DTSTART;TZID=UTC:20260609T183000
DTEND;TZID=UTC:20260609T200000
DTSTAMP:20260421T152112
CREATED:20241226T202012Z
LAST-MODIFIED:20250116T192708Z
UID:10000156-1781029800-1781035200@www.aarbf.org
SUMMARY:Fresno CRMC Support Group
DESCRIPTION:This group meets the second Tuesday of every month. To register\, please contact us: Please enable JavaScript in your browser to complete this form.Please enable JavaScript in your browser to complete this form.Personal information\nFirst Name *Last Name *Email *Phone *Address\nStreet *City *State *SelectALAKAZARCACOCTDEFLGAHIIDILINIAKSKYLAMEMDMAMIMNMSMOMTNENVNHNJNMNYNCNDOHOKORPARISCSDTNTXUTVTVAWAWVWIWYZipcode *Tell us more about you\n		\n			Are City Group\n			\n		\n		Are you a: *SelectBurn survivorFamily member of burn survivorMedical professional\, counselorFriend of burn survivorCommunity PartnerOtherSelect your Support Group *SelectSanta Clara Valley Medical Center\, San JoseUCSF Health Saint Francis Support Group\, San FranciscoFresno Community Regional Medical CenterLA General Support Group\, Los AngelesSubmit
URL:https://www.aarbf.org/event/fresno-crmc-support-group/2026-06-09/
END:VEVENT
BEGIN:VEVENT
DTSTART;TZID=UTC:20260610T100000
DTEND;TZID=UTC:20260610T140000
DTSTAMP:20260421T152112
CREATED:20260331T152626Z
LAST-MODIFIED:20260331T153213Z
UID:10001294-1781085600-1781100000@www.aarbf.org
SUMMARY:Chili Cook Off at Champ Camp
DESCRIPTION:The Champ Camp Chili Cook-Off is an annual tradition where firefighters and supporting organizations from the Central Valley and beyond\, compete for bragging rights for having the BEST Chili. A second award is also given for Best Decorated Booth. \nCome on out and join a day of fun. Voting will be conducted by our campers (plan your recipe accordingly!). \nEach competing team will need to also provide: \nBooth & decorations\n350 Servings and supplies\nA way to keep your chili warm \nRegister your team using the link. For questions\, please contact Katrina Arthur at karthur@aarbf.org. \nEvent is held at Wonder Valley in Sanger\, CA.
URL:https://www.aarbf.org/event/chili-cook-off-at-champ-camp/
ATTACH;FMTTYPE=image/png:https://www.aarbf.org/wp-content/uploads/2025/07/2025-Chili-Cook-off-1.png
END:VEVENT
BEGIN:VEVENT
DTSTART;TZID=UTC:20260610T110000
DTEND;TZID=UTC:20260610T133000
DTSTAMP:20260421T152112
CREATED:20260331T151122Z
LAST-MODIFIED:20260331T151123Z
UID:10001293-1781089200-1781098200@www.aarbf.org
SUMMARY:VIP Day at Champ Camp
DESCRIPTION:As a VIP\, you will enjoy lunch\, our annual chili cook-off competition with local fire departments\, an exclusive tour of Wonder Valley\, a chance to interact with our incredible campers\, and more! \nContact Katrina Arthur at karthur@aarbf.org to learn more. \n**All guests to Champ Camp must be registered in advance. No admittance without being on the authorized list.**
URL:https://www.aarbf.org/event/vip-day-at-champ-camp/
ATTACH;FMTTYPE=image/jpeg:https://www.aarbf.org/wp-content/uploads/2025/07/f1d235bb-8e58-4f8d-a7e8-b702398b1842.jpg
END:VEVENT
BEGIN:VEVENT
DTSTART;TZID=UTC:20260610T143000
DTEND;TZID=UTC:20260610T153000
DTSTAMP:20260421T152112
CREATED:20241226T202201Z
LAST-MODIFIED:20250116T192752Z
UID:10000273-1781101800-1781105400@www.aarbf.org
SUMMARY:LA General Support Group
DESCRIPTION:This group meets every Wednesday. To register\, please contact us: Please enable JavaScript in your browser to complete this form.Please enable JavaScript in your browser to complete this form.Personal information\n		\n			you Name Are\n			\n		\n		First Name *Last Name *Email *Phone *Address\nStreet *City *State *SelectALAKAZARCACOCTDEFLGAHIIDILINIAKSKYLAMEMDMAMIMNMSMOMTNENVNHNJNMNYNCNDOHOKORPARISCSDTNTXUTVTVAWAWVWIWYZipcode *Tell us more about you\nAre you a: *SelectBurn survivorFamily member of burn survivorMedical professional\, counselorFriend of burn survivorCommunity PartnerOtherSelect your Support Group *SelectSanta Clara Valley Medical Center\, San JoseUCSF Health Saint Francis Support Group\, San FranciscoFresno Community Regional Medical CenterLA General Support Group\, Los AngelesSubmit
URL:https://www.aarbf.org/event/la-general-support-group/2026-06-10/
END:VEVENT
BEGIN:VEVENT
DTSTART;TZID=UTC:20260610T183000
DTEND;TZID=UTC:20260610T200000
DTSTAMP:20260421T152112
CREATED:20241226T202450Z
LAST-MODIFIED:20250114T183924Z
UID:10000476-1781116200-1781121600@www.aarbf.org
SUMMARY:Burn Support Group - Virtual
DESCRIPTION:This virtual support group meets on the second Wednesday of each month.  To register\, please contact us: Please enable JavaScript in your browser to complete this form.Please enable JavaScript in your browser to complete this form.Personal information\nFirst Name *Last Name *Email *Phone *		\n			Group  State\n			\n		\n		Address\nStreet *City *State *SelectALAKAZARCACOCTDEFLGAHIIDILINIAKSKYLAMEMDMAMIMNMSMOMTNENVNHNJNMNYNCNDOHOKORPARISCSDTNTXUTVTVAWAWVWIWYZipcode *Tell us more about you\nAre you a: *SelectBurn survivorFamily member of burn survivorMedical professional\, counselorFriend of burn survivorSelect your Support Group SelectSpanish-speaking support groupBurn care professional supportBurn SurvivorFamily SupportNames of family members joining *Submit
URL:https://www.aarbf.org/event/burn-support-group-virtual/2026-06-10/
END:VEVENT
BEGIN:VEVENT
DTSTART;TZID=UTC:20260611T183000
DTEND;TZID=UTC:20260611T200000
DTSTAMP:20260421T152112
CREATED:20250203T212604Z
LAST-MODIFIED:20250507T005730Z
UID:10001192-1781202600-1781208000@www.aarbf.org
SUMMARY:Burn Care Professionals Support Group - Virtual
DESCRIPTION:This virtual support group meets on the second Thursday of each month.  To register\, please contact us: Please enable JavaScript in your browser to complete this form.Please enable JavaScript in your browser to complete this form.Personal information\nFirst Name *Last Name *Email *Phone *Address\nStreet *City *State *SelectALAKAZARCACOCTDEFLGAHIIDILINIAKSKYLAMEMDMAMIMNMSMOMTNENVNHNJNMNYNCNDOHOKORPARISCSDTNTXUTVTVAWAWVWIWYZipcode *		\n			of Group City\n			\n		\n		Tell us more about you\nAre you a: *SelectBurn survivorFamily member of burn survivorMedical professional\, counselorFriend of burn survivorSelect your Support Group SelectSpanish-speaking support groupBurn care professional supportBurn SurvivorFamily SupportNames of family members joining *Submit
URL:https://www.aarbf.org/event/burn-care-professionals-support-group-virtual-2/2026-06-11/
ATTACH;FMTTYPE=image/jpeg:https://www.aarbf.org/wp-content/uploads/2025/02/BurnCarePro.jpg
END:VEVENT
BEGIN:VEVENT
DTSTART;TZID=UTC:20260616T180000
DTEND;TZID=UTC:20260616T193000
DTSTAMP:20260421T152112
CREATED:20241226T202930Z
LAST-MODIFIED:20250114T183251Z
UID:10000656-1781632800-1781638200@www.aarbf.org
SUMMARY:Spanish-Speaking Support Group - Virtual
DESCRIPTION:This virtual support group meets on the third Tuesday of each month.  To register\, please contact us: Please enable JavaScript in your browser to complete this form.Please enable JavaScript in your browser to complete this form.Personal information\nFirst Name *Last Name *Email *Phone *Address\n		\n			you Select Support\n			\n		\n		Street *City *State *SelectALAKAZARCACOCTDEFLGAHIIDILINIAKSKYLAMEMDMAMIMNMSMOMTNENVNHNJNMNYNCNDOHOKORPARISCSDTNTXUTVTVAWAWVWIWYZipcode *Tell us more about you\nAre you a: *SelectBurn survivorFamily member of burn survivorMedical professional\, counselorFriend of burn survivorSelect your Support Group SelectSpanish-speaking support groupBurn care professional supportBurn SurvivorFamily SupportNames of family members joining *Submit
URL:https://www.aarbf.org/event/spanish-speaking-support-group-virtual/2026-06-16/
END:VEVENT
BEGIN:VEVENT
DTSTART;TZID=UTC:20260617T143000
DTEND;TZID=UTC:20260617T153000
DTSTAMP:20260421T152112
CREATED:20241226T202201Z
LAST-MODIFIED:20250116T192752Z
UID:10000274-1781706600-1781710200@www.aarbf.org
SUMMARY:LA General Support Group
DESCRIPTION:This group meets every Wednesday. To register\, please contact us: Please enable JavaScript in your browser to complete this form.Please enable JavaScript in your browser to complete this form.Personal information\n		\n			Are Layout Zipcode\n			\n		\n		First Name *Last Name *Email *Phone *Address\nStreet *City *State *SelectALAKAZARCACOCTDEFLGAHIIDILINIAKSKYLAMEMDMAMIMNMSMOMTNENVNHNJNMNYNCNDOHOKORPARISCSDTNTXUTVTVAWAWVWIWYZipcode *Tell us more about you\nAre you a: *SelectBurn survivorFamily member of burn survivorMedical professional\, counselorFriend of burn survivorCommunity PartnerOtherSelect your Support Group *SelectSanta Clara Valley Medical Center\, San JoseUCSF Health Saint Francis Support Group\, San FranciscoFresno Community Regional Medical CenterLA General Support Group\, Los AngelesSubmit
URL:https://www.aarbf.org/event/la-general-support-group/2026-06-17/
END:VEVENT
BEGIN:VEVENT
DTSTART;TZID=UTC:20260618T190000
DTEND;TZID=UTC:20260618T203000
DTSTAMP:20260421T152112
CREATED:20241226T202627Z
LAST-MODIFIED:20250306T224640Z
UID:10000536-1781809200-1781814600@www.aarbf.org
SUMMARY:What Now? Workshop
DESCRIPTION:This workshop occurs on the third Thursday of each month.  To register\, please contact us: Please enable JavaScript in your browser to complete this form.Please enable JavaScript in your browser to complete this form.Personal information\nFirst Name *Last Name *Email *Phone *Address\nStreet *		\n			Layout State Names\n			\n		\n		City *State *SelectALAKAZARCACOCTDEFLGAHIIDILINIAKSKYLAMEMDMAMIMNMSMOMTNENVNHNJNMNYNCNDOHOKORPARISCSDTNTXUTVTVAWAWVWIWYZipcode *Tell us more about you\nAre you a: *SelectBurn survivorFamily member of burn survivorMedical professional\, counselorFriend of burn survivorSelect your Support Group SelectSpanish-speaking support groupBurn care professional supportBurn SurvivorFamily SupportNames of family members joining *Submit
URL:https://www.aarbf.org/event/whatnowworkshop/2026-06-18/
END:VEVENT
BEGIN:VEVENT
DTSTART;TZID=UTC:20260624T143000
DTEND;TZID=UTC:20260624T153000
DTSTAMP:20260421T152112
CREATED:20241226T202201Z
LAST-MODIFIED:20250116T192752Z
UID:10000275-1782311400-1782315000@www.aarbf.org
SUMMARY:LA General Support Group
DESCRIPTION:This group meets every Wednesday. To register\, please contact us: Please enable JavaScript in your browser to complete this form.Please enable JavaScript in your browser to complete this form.Personal information\n		\n			you State Phone\n			\n		\n		First Name *Last Name *Email *Phone *Address\nStreet *City *State *SelectALAKAZARCACOCTDEFLGAHIIDILINIAKSKYLAMEMDMAMIMNMSMOMTNENVNHNJNMNYNCNDOHOKORPARISCSDTNTXUTVTVAWAWVWIWYZipcode *Tell us more about you\nAre you a: *SelectBurn survivorFamily member of burn survivorMedical professional\, counselorFriend of burn survivorCommunity PartnerOtherSelect your Support Group *SelectSanta Clara Valley Medical Center\, San JoseUCSF Health Saint Francis Support Group\, San FranciscoFresno Community Regional Medical CenterLA General Support Group\, Los AngelesSubmit
URL:https://www.aarbf.org/event/la-general-support-group/2026-06-24/
END:VEVENT
BEGIN:VEVENT
DTSTART;TZID=UTC:20260625T113000
DTEND;TZID=UTC:20260625T130000
DTSTAMP:20260421T152112
CREATED:20241226T201336Z
LAST-MODIFIED:20250116T192617Z
UID:10000095-1782387000-1782392400@www.aarbf.org
SUMMARY:UCSF Health Saint Francis Hospital Support Group
DESCRIPTION:This group meets the last Thursday of every month. To register\, please contact us: Please enable JavaScript in your browser to complete this form.Please enable JavaScript in your browser to complete this form.Personal information\nFirst Name *Last Name *		\n			First Name Group\n			\n		\n		Email *Phone *Address\nStreet *City *State *SelectALAKAZARCACOCTDEFLGAHIIDILINIAKSKYLAMEMDMAMIMNMSMOMTNENVNHNJNMNYNCNDOHOKORPARISCSDTNTXUTVTVAWAWVWIWYZipcode *Tell us more about you\nAre you a: *SelectBurn survivorFamily member of burn survivorMedical professional\, counselorFriend of burn survivorCommunity PartnerOtherSelect your Support Group *SelectSanta Clara Valley Medical Center\, San JoseUCSF Health Saint Francis Support Group\, San FranciscoFresno Community Regional Medical CenterLA General Support Group\, Los AngelesSubmit
URL:https://www.aarbf.org/event/ucsf-health-saint-francis-hospital/2026-06-25/
END:VEVENT
END:VCALENDAR