BEGIN:VCALENDAR
VERSION:2.0
PRODID:-//Alisa Ann Ruch Burn Foundation - ECPv6.15.20//NONSGML v1.0//EN
CALSCALE:GREGORIAN
METHOD:PUBLISH
X-WR-CALNAME:Alisa Ann Ruch Burn Foundation
X-ORIGINAL-URL:https://www.aarbf.org
X-WR-CALDESC:Events for Alisa Ann Ruch Burn Foundation
REFRESH-INTERVAL;VALUE=DURATION:PT1H
X-Robots-Tag:noindex
X-PUBLISHED-TTL:PT1H
BEGIN:VTIMEZONE
TZID:UTC
BEGIN:STANDARD
TZOFFSETFROM:+0000
TZOFFSETTO:+0000
TZNAME:UTC
DTSTART:20290101T000000
END:STANDARD
END:VTIMEZONE
BEGIN:VEVENT
DTSTART;TZID=UTC:20300314T183000
DTEND;TZID=UTC:20300314T200000
DTSTAMP:20260424T164102
CREATED:20250203T212604Z
LAST-MODIFIED:20250507T005730Z
UID:10001244-1899743400-1899748800@www.aarbf.org
SUMMARY:Burn Care Professionals Support Group - Virtual
DESCRIPTION:This virtual support group meets on the second Thursday of each month.  To register\, please contact us: Please enable JavaScript in your browser to complete this form.Please enable JavaScript in your browser to complete this form.Personal information\nFirst Name *Last Name *Email *Phone *Address\nStreet *		\n			Layout Names Last\n			\n		\n		City *State *SelectALAKAZARCACOCTDEFLGAHIIDILINIAKSKYLAMEMDMAMIMNMSMOMTNENVNHNJNMNYNCNDOHOKORPARISCSDTNTXUTVTVAWAWVWIWYZipcode *Tell us more about you\nAre you a: *SelectBurn survivorFamily member of burn survivorMedical professional\, counselorFriend of burn survivorSelect your Support Group SelectSpanish-speaking support groupBurn care professional supportBurn SurvivorFamily SupportNames of family members joining *Submit
URL:https://www.aarbf.org/event/burn-care-professionals-support-group-virtual-2/2030-03-14/
ATTACH;FMTTYPE=image/jpeg:https://www.aarbf.org/wp-content/uploads/2025/02/BurnCarePro.jpg
END:VEVENT
BEGIN:VEVENT
DTSTART;TZID=UTC:20300321T190000
DTEND;TZID=UTC:20300321T203000
DTSTAMP:20260424T164102
CREATED:20241226T202627Z
LAST-MODIFIED:20250306T224640Z
UID:10001247-1900350000-1900355400@www.aarbf.org
SUMMARY:What Now? Workshop
DESCRIPTION:This workshop occurs on the third Thursday of each month.  To register\, please contact us: Please enable JavaScript in your browser to complete this form.Please enable JavaScript in your browser to complete this form.		\n			Email Name Name\n			\n		\n		Personal information\nFirst Name *Last Name *Email *Phone *Address\nStreet *City *State *SelectALAKAZARCACOCTDEFLGAHIIDILINIAKSKYLAMEMDMAMIMNMSMOMTNENVNHNJNMNYNCNDOHOKORPARISCSDTNTXUTVTVAWAWVWIWYZipcode *Tell us more about you\nAre you a: *SelectBurn survivorFamily member of burn survivorMedical professional\, counselorFriend of burn survivorSelect your Support Group SelectSpanish-speaking support groupBurn care professional supportBurn SurvivorFamily SupportNames of family members joining *Submit
URL:https://www.aarbf.org/event/whatnowworkshop/2030-03-21/
END:VEVENT
BEGIN:VEVENT
DTSTART;TZID=UTC:20300404T190000
DTEND;TZID=UTC:20300404T203000
DTSTAMP:20260424T164102
CREATED:20241226T202814Z
LAST-MODIFIED:20250924T185528Z
UID:10001267-1901559600-1901565000@www.aarbf.org
SUMMARY:Friends\, Family\, and Caregiver Support Group - Virtual
DESCRIPTION:The group provides opportunities to share experiences\, exchange support\, and learn from others who have walked similar paths. Participants are welcome to share their experiences\, listen\, or take part in whatever way feels comfortable. \n  \nThis virtual support group meets on the first Thursday of each month.  To register\, please contact us: Please enable JavaScript in your browser to complete this form.Please enable JavaScript in your browser to complete this form.Personal information\n		\n			your Zipcode you\n			\n		\n		First Name *Last Name *Email *Phone *Address\nStreet *City *State *SelectALAKAZARCACOCTDEFLGAHIIDILINIAKSKYLAMEMDMAMIMNMSMOMTNENVNHNJNMNYNCNDOHOKORPARISCSDTNTXUTVTVAWAWVWIWYZipcode *Tell us more about you\nAre you a: *SelectBurn survivorFamily member of burn survivorMedical professional\, counselorFriend of burn survivorSelect your Support Group SelectSpanish-speaking support groupBurn care professional supportBurn SurvivorFamily SupportNames of family members joining *Submit
URL:https://www.aarbf.org/event/friends-family-and-caregiver-support-group-virtual/2030-04-04/
END:VEVENT
BEGIN:VEVENT
DTSTART;TZID=UTC:20300411T183000
DTEND;TZID=UTC:20300411T200000
DTSTAMP:20260424T164102
CREATED:20250203T212604Z
LAST-MODIFIED:20250507T005730Z
UID:10001249-1902162600-1902168000@www.aarbf.org
SUMMARY:Burn Care Professionals Support Group - Virtual
DESCRIPTION:This virtual support group meets on the second Thursday of each month.  To register\, please contact us: Please enable JavaScript in your browser to complete this form.Please enable JavaScript in your browser to complete this form.Personal information\nFirst Name *Last Name *Email *Phone *Address\nStreet *City *State *SelectALAKAZARCACOCTDEFLGAHIIDILINIAKSKYLAMEMDMAMIMNMSMOMTNENVNHNJNMNYNCNDOHOKORPARISCSDTNTXUTVTVAWAWVWIWYZipcode *Tell us more about you\nAre you a: *SelectBurn survivorFamily member of burn survivorMedical professional\, counselorFriend of burn survivorSelect your Support Group SelectSpanish-speaking support groupBurn care professional supportBurn SurvivorFamily Support		\n			your  Names\n			\n		\n		Names of family members joining *Submit
URL:https://www.aarbf.org/event/burn-care-professionals-support-group-virtual-2/2030-04-11/
ATTACH;FMTTYPE=image/jpeg:https://www.aarbf.org/wp-content/uploads/2025/02/BurnCarePro.jpg
END:VEVENT
BEGIN:VEVENT
DTSTART;TZID=UTC:20300418T190000
DTEND;TZID=UTC:20300418T203000
DTSTAMP:20260424T164102
CREATED:20241226T202627Z
LAST-MODIFIED:20250306T224640Z
UID:10001250-1902769200-1902774600@www.aarbf.org
SUMMARY:What Now? Workshop
DESCRIPTION:This workshop occurs on the third Thursday of each month.  To register\, please contact us: Please enable JavaScript in your browser to complete this form.Please enable JavaScript in your browser to complete this form.Personal information\nFirst Name *Last Name *Email *Phone *Address\nStreet *City *State *SelectALAKAZARCACOCTDEFLGAHIIDILINIAKSKYLAMEMDMAMIMNMSMOMTNENVNHNJNMNYNCNDOHOKORPARISCSDTNTXUTVTVAWAWVWIWYZipcode *Tell us more about you\nAre you a: *SelectBurn survivorFamily member of burn survivorMedical professional\, counselorFriend of burn survivor		\n			family you Zipcode\n			\n		\n		Select your Support Group SelectSpanish-speaking support groupBurn care professional supportBurn SurvivorFamily SupportNames of family members joining *Submit
URL:https://www.aarbf.org/event/whatnowworkshop/2030-04-18/
END:VEVENT
BEGIN:VEVENT
DTSTART;TZID=UTC:20300502T190000
DTEND;TZID=UTC:20300502T203000
DTSTAMP:20260424T164102
CREATED:20241226T202814Z
LAST-MODIFIED:20250924T185528Z
UID:10001268-1903978800-1903984200@www.aarbf.org
SUMMARY:Friends\, Family\, and Caregiver Support Group - Virtual
DESCRIPTION:The group provides opportunities to share experiences\, exchange support\, and learn from others who have walked similar paths. Participants are welcome to share their experiences\, listen\, or take part in whatever way feels comfortable. \n  \nThis virtual support group meets on the first Thursday of each month.  To register\, please contact us: Please enable JavaScript in your browser to complete this form.Please enable JavaScript in your browser to complete this form.Personal information\nFirst Name *Last Name *Email *Phone *Address\nStreet *City *State *SelectALAKAZARCACOCTDEFLGAHIIDILINIAKSKYLAMEMDMAMIMNMSMOMTNENVNHNJNMNYNCNDOHOKORPARISCSDTNTXUTVTVAWAWVWIWYZipcode *Tell us more about you\nAre you a: *SelectBurn survivorFamily member of burn survivorMedical professional\, counselorFriend of burn survivorSelect your Support Group SelectSpanish-speaking support groupBurn care professional supportBurn SurvivorFamily Support		\n			your Group City\n			\n		\n		Names of family members joining *Submit
URL:https://www.aarbf.org/event/friends-family-and-caregiver-support-group-virtual/2030-05-02/
END:VEVENT
BEGIN:VEVENT
DTSTART;TZID=UTC:20300509T183000
DTEND;TZID=UTC:20300509T200000
DTSTAMP:20260424T164102
CREATED:20250203T212604Z
LAST-MODIFIED:20250507T005730Z
UID:10001252-1904581800-1904587200@www.aarbf.org
SUMMARY:Burn Care Professionals Support Group - Virtual
DESCRIPTION:This virtual support group meets on the second Thursday of each month.  To register\, please contact us: Please enable JavaScript in your browser to complete this form.Please enable JavaScript in your browser to complete this form.Personal information\nFirst Name *Last Name *Email *Phone *Address\nStreet *City *State *SelectALAKAZARCACOCTDEFLGAHIIDILINIAKSKYLAMEMDMAMIMNMSMOMTNENVNHNJNMNYNCNDOHOKORPARISCSDTNTXUTVTVAWAWVWIWYZipcode *Tell us more about you\n		\n			Last joining members\n			\n		\n		Are you a: *SelectBurn survivorFamily member of burn survivorMedical professional\, counselorFriend of burn survivorSelect your Support Group SelectSpanish-speaking support groupBurn care professional supportBurn SurvivorFamily SupportNames of family members joining *Submit
URL:https://www.aarbf.org/event/burn-care-professionals-support-group-virtual-2/2030-05-09/
ATTACH;FMTTYPE=image/jpeg:https://www.aarbf.org/wp-content/uploads/2025/02/BurnCarePro.jpg
END:VEVENT
BEGIN:VEVENT
DTSTART;TZID=UTC:20300516T190000
DTEND;TZID=UTC:20300516T203000
DTSTAMP:20260424T164102
CREATED:20241226T202627Z
LAST-MODIFIED:20250306T224640Z
UID:10001251-1905188400-1905193800@www.aarbf.org
SUMMARY:What Now? Workshop
DESCRIPTION:This workshop occurs on the third Thursday of each month.  To register\, please contact us: Please enable JavaScript in your browser to complete this form.Please enable JavaScript in your browser to complete this form.Personal information\nFirst Name *Last Name *		\n			Zipcode joining Support\n			\n		\n		Email *Phone *Address\nStreet *City *State *SelectALAKAZARCACOCTDEFLGAHIIDILINIAKSKYLAMEMDMAMIMNMSMOMTNENVNHNJNMNYNCNDOHOKORPARISCSDTNTXUTVTVAWAWVWIWYZipcode *Tell us more about you\nAre you a: *SelectBurn survivorFamily member of burn survivorMedical professional\, counselorFriend of burn survivorSelect your Support Group SelectSpanish-speaking support groupBurn care professional supportBurn SurvivorFamily SupportNames of family members joining *Submit
URL:https://www.aarbf.org/event/whatnowworkshop/2030-05-16/
END:VEVENT
BEGIN:VEVENT
DTSTART;TZID=UTC:20300606T190000
DTEND;TZID=UTC:20300606T203000
DTSTAMP:20260424T164102
CREATED:20241226T202814Z
LAST-MODIFIED:20250924T185528Z
UID:10001269-1907002800-1907008200@www.aarbf.org
SUMMARY:Friends\, Family\, and Caregiver Support Group - Virtual
DESCRIPTION:The group provides opportunities to share experiences\, exchange support\, and learn from others who have walked similar paths. Participants are welcome to share their experiences\, listen\, or take part in whatever way feels comfortable. \n  \nThis virtual support group meets on the first Thursday of each month.  To register\, please contact us: Please enable JavaScript in your browser to complete this form.Please enable JavaScript in your browser to complete this form.Personal information\nFirst Name *Last Name *Email *Phone *Address\nStreet *City *State *SelectALAKAZARCACOCTDEFLGAHIIDILINIAKSKYLAMEMDMAMIMNMSMOMTNENVNHNJNMNYNCNDOHOKORPARISCSDTNTXUTVTVAWAWVWIWYZipcode *Tell us more about you\n		\n			Layout members Phone\n			\n		\n		Are you a: *SelectBurn survivorFamily member of burn survivorMedical professional\, counselorFriend of burn survivorSelect your Support Group SelectSpanish-speaking support groupBurn care professional supportBurn SurvivorFamily SupportNames of family members joining *Submit
URL:https://www.aarbf.org/event/friends-family-and-caregiver-support-group-virtual/2030-06-06/
END:VEVENT
BEGIN:VEVENT
DTSTART;TZID=UTC:20300613T183000
DTEND;TZID=UTC:20300613T200000
DTSTAMP:20260424T164102
CREATED:20250203T212604Z
LAST-MODIFIED:20250507T005730Z
UID:10001253-1907605800-1907611200@www.aarbf.org
SUMMARY:Burn Care Professionals Support Group - Virtual
DESCRIPTION:This virtual support group meets on the second Thursday of each month.  To register\, please contact us: Please enable JavaScript in your browser to complete this form.Please enable JavaScript in your browser to complete this form.		\n			Last family Support\n			\n		\n		Personal information\nFirst Name *Last Name *Email *Phone *Address\nStreet *City *State *SelectALAKAZARCACOCTDEFLGAHIIDILINIAKSKYLAMEMDMAMIMNMSMOMTNENVNHNJNMNYNCNDOHOKORPARISCSDTNTXUTVTVAWAWVWIWYZipcode *Tell us more about you\nAre you a: *SelectBurn survivorFamily member of burn survivorMedical professional\, counselorFriend of burn survivorSelect your Support Group SelectSpanish-speaking support groupBurn care professional supportBurn SurvivorFamily SupportNames of family members joining *Submit
URL:https://www.aarbf.org/event/burn-care-professionals-support-group-virtual-2/2030-06-13/
ATTACH;FMTTYPE=image/jpeg:https://www.aarbf.org/wp-content/uploads/2025/02/BurnCarePro.jpg
END:VEVENT
BEGIN:VEVENT
DTSTART;TZID=UTC:20300620T190000
DTEND;TZID=UTC:20300620T203000
DTSTAMP:20260424T164102
CREATED:20241226T202627Z
LAST-MODIFIED:20250306T224640Z
UID:10001255-1908212400-1908217800@www.aarbf.org
SUMMARY:What Now? Workshop
DESCRIPTION:This workshop occurs on the third Thursday of each month.  To register\, please contact us: Please enable JavaScript in your browser to complete this form.Please enable JavaScript in your browser to complete this form.Personal information\nFirst Name *Last Name *		\n			Select Names Layout\n			\n		\n		Email *Phone *Address\nStreet *City *State *SelectALAKAZARCACOCTDEFLGAHIIDILINIAKSKYLAMEMDMAMIMNMSMOMTNENVNHNJNMNYNCNDOHOKORPARISCSDTNTXUTVTVAWAWVWIWYZipcode *Tell us more about you\nAre you a: *SelectBurn survivorFamily member of burn survivorMedical professional\, counselorFriend of burn survivorSelect your Support Group SelectSpanish-speaking support groupBurn care professional supportBurn SurvivorFamily SupportNames of family members joining *Submit
URL:https://www.aarbf.org/event/whatnowworkshop/2030-06-20/
END:VEVENT
BEGIN:VEVENT
DTSTART;TZID=UTC:20300704T190000
DTEND;TZID=UTC:20300704T203000
DTSTAMP:20260424T164102
CREATED:20241226T202814Z
LAST-MODIFIED:20250924T185528Z
UID:10001270-1909422000-1909427400@www.aarbf.org
SUMMARY:Friends\, Family\, and Caregiver Support Group - Virtual
DESCRIPTION:The group provides opportunities to share experiences\, exchange support\, and learn from others who have walked similar paths. Participants are welcome to share their experiences\, listen\, or take part in whatever way feels comfortable. \n  \nThis virtual support group meets on the first Thursday of each month.  To register\, please contact us: Please enable JavaScript in your browser to complete this form.Please enable JavaScript in your browser to complete this form.Personal information\nFirst Name *Last Name *Email *Phone *Address\nStreet *City *State *SelectALAKAZARCACOCTDEFLGAHIIDILINIAKSKYLAMEMDMAMIMNMSMOMTNENVNHNJNMNYNCNDOHOKORPARISCSDTNTXUTVTVAWAWVWIWYZipcode *Tell us more about you\n		\n			family Group your\n			\n		\n		Are you a: *SelectBurn survivorFamily member of burn survivorMedical professional\, counselorFriend of burn survivorSelect your Support Group SelectSpanish-speaking support groupBurn care professional supportBurn SurvivorFamily SupportNames of family members joining *Submit
URL:https://www.aarbf.org/event/friends-family-and-caregiver-support-group-virtual/2030-07-04/
END:VEVENT
BEGIN:VEVENT
DTSTART;TZID=UTC:20300711T183000
DTEND;TZID=UTC:20300711T200000
DTSTAMP:20260424T164102
CREATED:20250203T212604Z
LAST-MODIFIED:20250507T005730Z
UID:10001254-1910025000-1910030400@www.aarbf.org
SUMMARY:Burn Care Professionals Support Group - Virtual
DESCRIPTION:This virtual support group meets on the second Thursday of each month.  To register\, please contact us: Please enable JavaScript in your browser to complete this form.Please enable JavaScript in your browser to complete this form.Personal information\nFirst Name *Last Name *Email *Phone *Address\nStreet *		\n			City Phone Street\n			\n		\n		City *State *SelectALAKAZARCACOCTDEFLGAHIIDILINIAKSKYLAMEMDMAMIMNMSMOMTNENVNHNJNMNYNCNDOHOKORPARISCSDTNTXUTVTVAWAWVWIWYZipcode *Tell us more about you\nAre you a: *SelectBurn survivorFamily member of burn survivorMedical professional\, counselorFriend of burn survivorSelect your Support Group SelectSpanish-speaking support groupBurn care professional supportBurn SurvivorFamily SupportNames of family members joining *Submit
URL:https://www.aarbf.org/event/burn-care-professionals-support-group-virtual-2/2030-07-11/
ATTACH;FMTTYPE=image/jpeg:https://www.aarbf.org/wp-content/uploads/2025/02/BurnCarePro.jpg
END:VEVENT
BEGIN:VEVENT
DTSTART;TZID=UTC:20300718T190000
DTEND;TZID=UTC:20300718T203000
DTSTAMP:20260424T164102
CREATED:20241226T202627Z
LAST-MODIFIED:20250306T224640Z
UID:10001256-1910631600-1910637000@www.aarbf.org
SUMMARY:What Now? Workshop
DESCRIPTION:This workshop occurs on the third Thursday of each month.  To register\, please contact us: Please enable JavaScript in your browser to complete this form.Please enable JavaScript in your browser to complete this form.Personal information\nFirst Name *Last Name *Email *Phone *Address\nStreet *City *State *SelectALAKAZARCACOCTDEFLGAHIIDILINIAKSKYLAMEMDMAMIMNMSMOMTNENVNHNJNMNYNCNDOHOKORPARISCSDTNTXUTVTVAWAWVWIWYZipcode *Tell us more about you\nAre you a: *SelectBurn survivorFamily member of burn survivorMedical professional\, counselorFriend of burn survivorSelect your Support Group SelectSpanish-speaking support groupBurn care professional supportBurn SurvivorFamily Support		\n			First Email Layout\n			\n		\n		Names of family members joining *Submit
URL:https://www.aarbf.org/event/whatnowworkshop/2030-07-18/
END:VEVENT
BEGIN:VEVENT
DTSTART;TZID=UTC:20300801T190000
DTEND;TZID=UTC:20300801T203000
DTSTAMP:20260424T164102
CREATED:20241226T202814Z
LAST-MODIFIED:20250924T185528Z
UID:10001271-1911841200-1911846600@www.aarbf.org
SUMMARY:Friends\, Family\, and Caregiver Support Group - Virtual
DESCRIPTION:The group provides opportunities to share experiences\, exchange support\, and learn from others who have walked similar paths. Participants are welcome to share their experiences\, listen\, or take part in whatever way feels comfortable. \n  \nThis virtual support group meets on the first Thursday of each month.  To register\, please contact us: Please enable JavaScript in your browser to complete this form.Please enable JavaScript in your browser to complete this form.Personal information\nFirst Name *Last Name *Email *Phone *Address\nStreet *		\n			 Layout your\n			\n		\n		City *State *SelectALAKAZARCACOCTDEFLGAHIIDILINIAKSKYLAMEMDMAMIMNMSMOMTNENVNHNJNMNYNCNDOHOKORPARISCSDTNTXUTVTVAWAWVWIWYZipcode *Tell us more about you\nAre you a: *SelectBurn survivorFamily member of burn survivorMedical professional\, counselorFriend of burn survivorSelect your Support Group SelectSpanish-speaking support groupBurn care professional supportBurn SurvivorFamily SupportNames of family members joining *Submit
URL:https://www.aarbf.org/event/friends-family-and-caregiver-support-group-virtual/2030-08-01/
END:VEVENT
BEGIN:VEVENT
DTSTART;TZID=UTC:20300808T183000
DTEND;TZID=UTC:20300808T200000
DTSTAMP:20260424T164102
CREATED:20250203T212604Z
LAST-MODIFIED:20250507T005730Z
UID:10001258-1912444200-1912449600@www.aarbf.org
SUMMARY:Burn Care Professionals Support Group - Virtual
DESCRIPTION:This virtual support group meets on the second Thursday of each month.  To register\, please contact us: Please enable JavaScript in your browser to complete this form.Please enable JavaScript in your browser to complete this form.Personal information\nFirst Name *Last Name *Email *Phone *Address\nStreet *		\n			Layout members Select\n			\n		\n		City *State *SelectALAKAZARCACOCTDEFLGAHIIDILINIAKSKYLAMEMDMAMIMNMSMOMTNENVNHNJNMNYNCNDOHOKORPARISCSDTNTXUTVTVAWAWVWIWYZipcode *Tell us more about you\nAre you a: *SelectBurn survivorFamily member of burn survivorMedical professional\, counselorFriend of burn survivorSelect your Support Group SelectSpanish-speaking support groupBurn care professional supportBurn SurvivorFamily SupportNames of family members joining *Submit
URL:https://www.aarbf.org/event/burn-care-professionals-support-group-virtual-2/2030-08-08/
ATTACH;FMTTYPE=image/jpeg:https://www.aarbf.org/wp-content/uploads/2025/02/BurnCarePro.jpg
END:VEVENT
BEGIN:VEVENT
DTSTART;TZID=UTC:20300815T190000
DTEND;TZID=UTC:20300815T203000
DTSTAMP:20260424T164102
CREATED:20241226T202627Z
LAST-MODIFIED:20250306T224640Z
UID:10001257-1913050800-1913056200@www.aarbf.org
SUMMARY:What Now? Workshop
DESCRIPTION:This workshop occurs on the third Thursday of each month.  To register\, please contact us: Please enable JavaScript in your browser to complete this form.Please enable JavaScript in your browser to complete this form.Personal information\nFirst Name *Last Name *Email *Phone *Address\nStreet *City *State *SelectALAKAZARCACOCTDEFLGAHIIDILINIAKSKYLAMEMDMAMIMNMSMOMTNENVNHNJNMNYNCNDOHOKORPARISCSDTNTXUTVTVAWAWVWIWYZipcode *Tell us more about you\nAre you a: *SelectBurn survivorFamily member of burn survivorMedical professional\, counselorFriend of burn survivor		\n			your Are Last\n			\n		\n		Select your Support Group SelectSpanish-speaking support groupBurn care professional supportBurn SurvivorFamily SupportNames of family members joining *Submit
URL:https://www.aarbf.org/event/whatnowworkshop/2030-08-15/
END:VEVENT
BEGIN:VEVENT
DTSTART;TZID=UTC:20300905T190000
DTEND;TZID=UTC:20300905T203000
DTSTAMP:20260424T164102
CREATED:20241226T202814Z
LAST-MODIFIED:20250924T185528Z
UID:10001272-1914865200-1914870600@www.aarbf.org
SUMMARY:Friends\, Family\, and Caregiver Support Group - Virtual
DESCRIPTION:The group provides opportunities to share experiences\, exchange support\, and learn from others who have walked similar paths. Participants are welcome to share their experiences\, listen\, or take part in whatever way feels comfortable. \n  \nThis virtual support group meets on the first Thursday of each month.  To register\, please contact us: Please enable JavaScript in your browser to complete this form.Please enable JavaScript in your browser to complete this form.Personal information\nFirst Name *Last Name *Email *Phone *Address\nStreet *City *State *SelectALAKAZARCACOCTDEFLGAHIIDILINIAKSKYLAMEMDMAMIMNMSMOMTNENVNHNJNMNYNCNDOHOKORPARISCSDTNTXUTVTVAWAWVWIWYZipcode *Tell us more about you\n		\n			First Last Names\n			\n		\n		Are you a: *SelectBurn survivorFamily member of burn survivorMedical professional\, counselorFriend of burn survivorSelect your Support Group SelectSpanish-speaking support groupBurn care professional supportBurn SurvivorFamily SupportNames of family members joining *Submit
URL:https://www.aarbf.org/event/friends-family-and-caregiver-support-group-virtual/2030-09-05/
END:VEVENT
BEGIN:VEVENT
DTSTART;TZID=UTC:20300912T183000
DTEND;TZID=UTC:20300912T200000
DTSTAMP:20260424T164102
CREATED:20250203T212604Z
LAST-MODIFIED:20250507T005730Z
UID:10001259-1915468200-1915473600@www.aarbf.org
SUMMARY:Burn Care Professionals Support Group - Virtual
DESCRIPTION:This virtual support group meets on the second Thursday of each month.  To register\, please contact us: Please enable JavaScript in your browser to complete this form.Please enable JavaScript in your browser to complete this form.Personal information\nFirst Name *Last Name *Email *Phone *		\n			City Phone a:\n			\n		\n		Address\nStreet *City *State *SelectALAKAZARCACOCTDEFLGAHIIDILINIAKSKYLAMEMDMAMIMNMSMOMTNENVNHNJNMNYNCNDOHOKORPARISCSDTNTXUTVTVAWAWVWIWYZipcode *Tell us more about you\nAre you a: *SelectBurn survivorFamily member of burn survivorMedical professional\, counselorFriend of burn survivorSelect your Support Group SelectSpanish-speaking support groupBurn care professional supportBurn SurvivorFamily SupportNames of family members joining *Submit
URL:https://www.aarbf.org/event/burn-care-professionals-support-group-virtual-2/2030-09-12/
ATTACH;FMTTYPE=image/jpeg:https://www.aarbf.org/wp-content/uploads/2025/02/BurnCarePro.jpg
END:VEVENT
BEGIN:VEVENT
DTSTART;TZID=UTC:20300919T190000
DTEND;TZID=UTC:20300919T203000
DTSTAMP:20260424T164102
CREATED:20241226T202627Z
LAST-MODIFIED:20250306T224640Z
UID:10001273-1916074800-1916080200@www.aarbf.org
SUMMARY:What Now? Workshop
DESCRIPTION:This workshop occurs on the third Thursday of each month.  To register\, please contact us: Please enable JavaScript in your browser to complete this form.Please enable JavaScript in your browser to complete this form.Personal information\nFirst Name *Last Name *Email *Phone *Address\nStreet *City *State *SelectALAKAZARCACOCTDEFLGAHIIDILINIAKSKYLAMEMDMAMIMNMSMOMTNENVNHNJNMNYNCNDOHOKORPARISCSDTNTXUTVTVAWAWVWIWYZipcode *Tell us more about you\n		\n			Select members Group\n			\n		\n		Are you a: *SelectBurn survivorFamily member of burn survivorMedical professional\, counselorFriend of burn survivorSelect your Support Group SelectSpanish-speaking support groupBurn care professional supportBurn SurvivorFamily SupportNames of family members joining *Submit
URL:https://www.aarbf.org/event/whatnowworkshop/2030-09-19/
END:VEVENT
BEGIN:VEVENT
DTSTART;TZID=UTC:20301003T190000
DTEND;TZID=UTC:20301003T203000
DTSTAMP:20260424T164102
CREATED:20241226T202814Z
LAST-MODIFIED:20250924T185528Z
UID:10001279-1917284400-1917289800@www.aarbf.org
SUMMARY:Friends\, Family\, and Caregiver Support Group - Virtual
DESCRIPTION:The group provides opportunities to share experiences\, exchange support\, and learn from others who have walked similar paths. Participants are welcome to share their experiences\, listen\, or take part in whatever way feels comfortable. \n  \nThis virtual support group meets on the first Thursday of each month.  To register\, please contact us: Please enable JavaScript in your browser to complete this form.Please enable JavaScript in your browser to complete this form.Personal information\nFirst Name *Last Name *Email *Phone *Address\nStreet *City *State *SelectALAKAZARCACOCTDEFLGAHIIDILINIAKSKYLAMEMDMAMIMNMSMOMTNENVNHNJNMNYNCNDOHOKORPARISCSDTNTXUTVTVAWAWVWIWYZipcode *Tell us more about you\n		\n			Group joining Layout\n			\n		\n		Are you a: *SelectBurn survivorFamily member of burn survivorMedical professional\, counselorFriend of burn survivorSelect your Support Group SelectSpanish-speaking support groupBurn care professional supportBurn SurvivorFamily SupportNames of family members joining *Submit
URL:https://www.aarbf.org/event/friends-family-and-caregiver-support-group-virtual/2030-10-03/
END:VEVENT
BEGIN:VEVENT
DTSTART;TZID=UTC:20301017T190000
DTEND;TZID=UTC:20301017T203000
DTSTAMP:20260424T164102
CREATED:20241226T202627Z
LAST-MODIFIED:20250306T224640Z
UID:10001278-1918494000-1918499400@www.aarbf.org
SUMMARY:What Now? Workshop
DESCRIPTION:This workshop occurs on the third Thursday of each month.  To register\, please contact us: Please enable JavaScript in your browser to complete this form.Please enable JavaScript in your browser to complete this form.Personal information\nFirst Name *Last Name *Email *Phone *Address\n		\n			Names Email Support\n			\n		\n		Street *City *State *SelectALAKAZARCACOCTDEFLGAHIIDILINIAKSKYLAMEMDMAMIMNMSMOMTNENVNHNJNMNYNCNDOHOKORPARISCSDTNTXUTVTVAWAWVWIWYZipcode *Tell us more about you\nAre you a: *SelectBurn survivorFamily member of burn survivorMedical professional\, counselorFriend of burn survivorSelect your Support Group SelectSpanish-speaking support groupBurn care professional supportBurn SurvivorFamily SupportNames of family members joining *Submit
URL:https://www.aarbf.org/event/whatnowworkshop/2030-10-17/
END:VEVENT
BEGIN:VEVENT
DTSTART;TZID=UTC:20301107T190000
DTEND;TZID=UTC:20301107T203000
DTSTAMP:20260424T164102
CREATED:20241226T202814Z
LAST-MODIFIED:20250924T185528Z
UID:10001280-1920308400-1920313800@www.aarbf.org
SUMMARY:Friends\, Family\, and Caregiver Support Group - Virtual
DESCRIPTION:The group provides opportunities to share experiences\, exchange support\, and learn from others who have walked similar paths. Participants are welcome to share their experiences\, listen\, or take part in whatever way feels comfortable. \n  \nThis virtual support group meets on the first Thursday of each month.  To register\, please contact us: Please enable JavaScript in your browser to complete this form.Please enable JavaScript in your browser to complete this form.		\n			Layout Are Name\n			\n		\n		Personal information\nFirst Name *Last Name *Email *Phone *Address\nStreet *City *State *SelectALAKAZARCACOCTDEFLGAHIIDILINIAKSKYLAMEMDMAMIMNMSMOMTNENVNHNJNMNYNCNDOHOKORPARISCSDTNTXUTVTVAWAWVWIWYZipcode *Tell us more about you\nAre you a: *SelectBurn survivorFamily member of burn survivorMedical professional\, counselorFriend of burn survivorSelect your Support Group SelectSpanish-speaking support groupBurn care professional supportBurn SurvivorFamily SupportNames of family members joining *Submit
URL:https://www.aarbf.org/event/friends-family-and-caregiver-support-group-virtual/2030-11-07/
END:VEVENT
END:VCALENDAR